Workbook

Sheet SUMMARY
E2: Project Name:
A3: www.biddingpartners.com | E3: Address:
A4: +1 (347) 994-0941
B6: CSI DIV. | C6: DESCRIPTION | D6: TOTAL TRADE COST | E6: REMARKS
B8: DIV.01 | C8: GENERAL CONDITIONS | D8: =ESTIMATE!P8 -> 170033.98
A9: =IF(G9<>"",1+MAX($A$6:A8),"") | B9: =ESTIMATE!D14 -> DIV. 02 | C9: =ESTIMATE!E14 -> DEMOLITION / EXISTING CONDITIONS | D9: =ESTIMATE!P14 -> 45496.72
A10: =IF(G10<>"",1+MAX($A$6:A9),"") | B10: DIV.31 | C10: EARTHWORKS | D10: =ESTIMATE!P26 -> 2435137.8
A11: =IF(G11<>"",1+MAX($A$6:A9),"") | B11: DIV.32 | C11: EXTERIOR IMPROVEMENTS | D11: =ESTIMATE!P66 -> 2764422.8
A12: =IF(G12<>"",1+MAX($A$6:A11),"") | B12: DIV.33 | C12: UTILITIES | D12: =ESTIMATE!P216 -> 81403.444
A13: =IF(G13<>"",1+MAX($A$6:A8),"")
C14: SUBTOTAL | D14: =SUM(D8:D13) -> 5496494.7
C15: OVERHEAD & PROFIT - 25% | D15: =0.25*D14 -> 1374123.7
C16: TOTAL BID | D16: =SUM(D14:D15) -> 6870618.4

Sheet ESTIMATE
J2: Project Name:
A3: www.biddingpartners.com | J3: Address:
A4: 3479940941
A6: SR # | B6: REFERENCE SHEET | C6: DETAIL SHEET | D6: CSI SECT | E6: DESCRIPTION | F6: QTY. | G6: WASTAGE | H6: QTY WITH WASTAGE | I6: UNIT OF MEASURMENT | J6: UNIT LABOR COST | K6: TOTAL LABOR COST | L6: UNIT MATERIAL COST | M6: TOTAL MATERIAL COST | N6: UNIT COST | O6: TOTAL ITEM COST | P6: TOTAL TRADE COST
D8: DIV. 01 | E8: GENERAL REQUIREMENTS | P8: =SUM(O9:O13) -> 170033.98
A10: =IF(I10<>"",1+MAX($A$6:A9),"") -> 1 | E10: PERMITS & SITE SUPERVISION FEE | F10: 1 | G10: 0 | H10: =F10*(1+G10) -> 1 | I10: LS | N10: 106271.24 | O10: =N10*H10 -> 106271.24
A11: =IF(I11<>"",1+MAX($A$6:A10),"") -> 2 | E11: Allowances | F11: 1 | G11: 0 | H11: =F11*(1+G11) -> 1 | I11: LS | N11: 26567.81 | O11: =N11*H11 -> 26567.81
A12: =IF(I12<>"",1+MAX($A$6:A11),"") -> 3 | E12: Mobilization | F12: 1 | G12: 0 | H12: =F12*(1+G12) -> 1 | I12: LS | N12: 37194.934 | O12: =N12*H12 -> 37194.934
A13: =IF(I13<>"",1+MAX($A$6:A12),"")
A14: =IF(I14<>"",1+MAX($A$6:A13),"") | D14: DIV. 02 | E14: DEMOLITION / EXISTING CONDITIONS | P14: =SUM(O17:O25) -> 45496.72
A15: =IF(I15<>"",1+MAX($A$6:A14),"")
A16: =IF(I16<>"",1+MAX($A$6:A15),"") | E16: SITE DEMOLITION
A17: =IF(I17<>"",1+MAX($A$6:A16),"")
A18: =IF(I18<>"",1+MAX($A$6:A17),"") -> 4 | B18: C-1 | C18: C-1 | E18: Remove Existing Asphalt Pavement | F18: 1050.32 | G18: 0 | H18: =F18*(1+G18) -> 1050.32 | I18: SF | J18: 4 | K18: =J18*H18 -> 4201.28 | L18: 0 | M18: 0 | N18: 4 | O18: =N18*H18 -> 4201.28
A19: =IF(I19<>"",1+MAX($A$6:A18),"") -> 5 | B19: C-1 | C19: C-1 | E19: 1-1/2" Mill & Overlay Existing Asphalt Pavement | F19: 2780.22 | G19: 0 | H19: =F19*(1+G19) -> 2780.22 | I19: SF | J19: 12 | K19: =J19*H19 -> 33362.64 | L19: 0 | M19: 0 | N19: 12 | O19: =N19*H19 -> 33362.64
A20: =IF(I20<>"",1+MAX($A$6:A19),"") -> 6 | B20: C-1 | C20: C-1 | E20: Remove Existing Striping | F20: 276.2 | G20: 0 | H20: =F20*(1+G20) -> 276.2 | I20: LF | J20: 1 | K20: =J20*H20 -> 276.2 | L20: 0 | M20: 0 | N20: 1 | O20: =N20*H20 -> 276.2
A21: =IF(I21<>"",1+MAX($A$6:A20),"") -> 7 | B21: C-1 | C21: C-1 | E21: Saw Cut Existing Asphalt Pavement (Saw Cut To Provide Smooth Edge) | F21: 47.26 | G21: 0 | H21: =F21*(1+G21) -> 47.26 | I21: LF | J21: 35 | K21: =J21*H21 -> 1654.1 | L21: 0 | M21: 0 | N21: 35 | O21: =N21*H21 -> 1654.1
A22: =IF(I22<>"",1+MAX($A$6:A21),"") -> 8 | B22: C-1 | C22: C-1 | E22: Remove Existing 18" Dia RCP Drain Pipe | F22: 43.3 | G22: 0 | H22: =F22*(1+G22) -> 43.3 | I22: LF | J22: 75 | K22: =J22*H22 -> 3247.5 | L22: 0 | M22: 0 | N22: 75 | O22: =N22*H22 -> 3247.5
A23: =IF(I23<>"",1+MAX($A$6:A22),"") -> 9 | B23: C-1 | C23: C-1 | E23: Remove Existing Traffic Control Legend " Only" Text | F23: 1 | G23: 0 | H23: =F23*(1+G23) -> 1 | I23: EA | J23: 75 | K23: =J23*H23 -> 75 | L23: 0 | M23: 0 | N23: 75 | O23: =N23*H23 -> 75
A24: =IF(I24<>"",1+MAX($A$6:A23),"") -> 10 | B24: C-1 | C24: C-1 | E24: Remove Existing Wooden Poles | F24: 4 | G24: 0 | H24: =F24*(1+G24) -> 4 | I24: EA | J24: 670 | K24: =J24*H24 -> 2680 | L24: 0 | M24: 0 | N24: 670 | O24: =N24*H24 -> 2680
A25: =IF(I25<>"",1+MAX($A$6:A24),"")
A26: =IF(I26<>"",1+MAX($A$6:A25),"") | D26: DIV. 31 | E26: EARTHWORKS | P26: =SUM(O30:O65) -> 2435137.8
A27: =IF(I27<>"",1+MAX($A$6:A26),"")
A28: =IF(I28<>"",1+MAX($A$6:A27),"") | E28: EXCAVATION & BACKFILL
A29: =IF(I29<>"",1+MAX($A$6:A28),"")
A30: =IF(I30<>"",1+MAX($A$6:A29),"") | E30: STORM PIPES
A31: =IF(I31<>"",1+MAX($A$6:A30),"")
A32: =IF(I32<>"",1+MAX($A$6:A31),"") -> 11 | B32: C-4 , C9 | C32: C-4 , C9 | E32: Excavation | F32: 258.19444 | G32: 0.1 | H32: =F32*(1+G32) -> 284.01389 | I32: CY | J32: 75 | K32: =J32*H32 -> 21301.042 | L32: 0 | M32: =L32*H32 -> 0 | N32: 75 | O32: =N32*H32 -> 21301.042
A33: =IF(I33<>"",1+MAX($A$6:A32),"") -> 12 | B33: C-4 , C9 | C33: C-4 , C9 | E33: 4" Backfill (Class I Gravel Fill) - Haunch & Bedding | F33: 34.081667 | G33: 0.1 | H33: =F33*(1+G33) -> 37.489833 | I33: CY | J33: 25.85 | K33: =J33*H33 -> 969.11219 | L33: 29.15 | M33: =L33*H33 -> 1092.8286 | N33: 55 | O33: =N33*H33 -> 2061.9408
A34: =IF(I34<>"",1+MAX($A$6:A33),"") -> 13 | B34: C-4 , C9 | C34: C-4 , C9 | E34: 24" Backfill (Class I Gravel Fill) - Initial Fill | F34: 150.27556 | G34: 0.1 | H34: =F34*(1+G34) -> 165.30311 | I34: CY | J34: 40 | K34: =J34*H34 -> 6612.1244 | L34: 0 | M34: =L34*H34 -> 0 | N34: 40 | O34: =N34*H34 -> 6612.1244 | S34: =1.5*1.5 -> 2.25 | U34: =S34/4 -> 0.5625
A35: =IF(I35<>"",1+MAX($A$6:A34),"") -> 14 | B35: C-4 , C9 | C35: C-4 , C9 | E35: 6" Backfill (Native Fill) - Final Fill | F35: 51.638889 | G35: 0.1 | H35: =F35*(1+G35) -> 56.802778 | I35: CY | J35: 30 | K35: =J35*H35 -> 1704.0833 | L35: 0 | M35: =L35*H35 -> 0 | N35: 30 | O35: =N35*H35 -> 1704.0833 | U35: =U34*3.14 -> 1.76625
A36: =IF(I36<>"",1+MAX($A$6:A35),"")
A37: =IF(I37<>"",1+MAX($A$6:A36),"") | E37: WATER PIPES
A38: =IF(I38<>"",1+MAX($A$6:A37),"")
A39: =IF(I39<>"",1+MAX($A$6:A38),"") -> 15 | B39: C-3 , C9 | C39: C-3 , C9 | E39: Excavation | F39: 173.11111 | G39: 0.1 | H39: =F39*(1+G39) -> 190.42222 | I39: CY | J39: 75 | K39: =J39*H39 -> 14281.667 | L39: 0 | M39: =L39*H39 -> 0 | N39: 75 | O39: =N39*H39 -> 14281.667
A40: =IF(I40<>"",1+MAX($A$6:A39),"") -> 16 | B40: C-3 , C9 | C40: C-3 , C9 | E40: 4" Backfill (Class I Gravel Fill) - Haunch & Bedding | F40: 28.563333 | G40: 0.1 | H40: =F40*(1+G40) -> 31.419667 | I40: CY | J40: 25.85 | K40: =J40*H40 -> 812.19838 | L40: 29.15 | M40: =L40*H40 -> 915.88328 | N40: 55 | O40: =N40*H40 -> 1728.0817
A41: =IF(I41<>"",1+MAX($A$6:A40),"") -> 17 | B41: C-3 , C9 | C41: C-3 , C9 | E41: 12" Backfill (Class I Gravel Fill) - Initial Fill | F41: 80.895556 | G41: 0.1 | H41: =F41*(1+G41) -> 88.985111 | I41: CY | J41: 40 | K41: =J41*H41 -> 3559.4044 | L41: 0 | M41: =L41*H41 -> 0 | N41: 40 | O41: =N41*H41 -> 3559.4044 | S41: =0.5*0.5 -> 0.25 | U41: =S41/4 -> 0.0625
A42: =IF(I42<>"",1+MAX($A$6:A41),"") -> 18 | B42: C-3 , C9 | C42: C-3 , C9 | E42: 6" Backfill (Native Fill) - Final Fill | F42: 51.638889 | G42: 0.1 | H42: =F42*(1+G42) -> 56.802778 | I42: CY | J42: 30 | K42: =J42*H42 -> 1704.0833 | L42: 0 | M42: =L42*H42 -> 0 | N42: 30 | O42: =N42*H42 -> 1704.0833 | U42: =U41*3.14 -> 0.19625
A43: =IF(I43<>"",1+MAX($A$6:A42),"")
A44: =IF(I44<>"",1+MAX($A$6:A43),"") | E44: SEWER PIPES
A45: =IF(I45<>"",1+MAX($A$6:A44),"")
A46: =IF(I46<>"",1+MAX($A$6:A45),"") -> 19 | B46: C-3 , C9 | C46: C-3 , C9 | E46: Excavation | F46: 28.444444 | G46: 0.1 | H46: =F46*(1+G46) -> 31.288889 | I46: CY | J46: 75 | K46: =J46*H46 -> 2346.6667 | L46: 0 | M46: =L46*H46 -> 0 | N46: 75 | O46: =N46*H46 -> 2346.6667
A47: =IF(I47<>"",1+MAX($A$6:A46),"") -> 20 | B47: C-3 , C9 | C47: C-3 , C9 | E47: 4" Backfill (Class I Gravel Fill) - Haunch & Bedding | F47: 4.6933333 | G47: 0.1 | H47: =F47*(1+G47) -> 5.1626667 | I47: CY | J47: 25.85 | K47: =J47*H47 -> 133.45493 | L47: 29.15 | M47: =L47*H47 -> 150.49173 | N47: 55 | O47: =N47*H47 -> 283.94667
A48: =IF(I48<>"",1+MAX($A$6:A47),"") -> 21 | B48: C-3 , C9 | C48: C-3 , C9 | E48: 12" Backfill (Class I Gravel Fill) - Initial Fill | F48: 13.292222 | G48: 0.1 | H48: =F48*(1+G48) -> 14.621444 | I48: CY | J48: 40 | K48: =J48*H48 -> 584.85778 | L48: 0 | M48: =L48*H48 -> 0 | N48: 40 | O48: =N48*H48 -> 584.85778 | S48: =0.5*0.5 -> 0.25 | U48: =S48/4 -> 0.0625
A49: =IF(I49<>"",1+MAX($A$6:A48),"") -> 22 | B49: C-3 , C9 | C49: C-3 , C9 | E49: 6" Backfill (Native Fill) - Final Fill | F49: 7.7037037 | G49: 0.1 | H49: =F49*(1+G49) -> 8.4740741 | I49: CY | J49: 30 | K49: =J49*H49 -> 254.22222 | L49: 0 | M49: =L49*H49 -> 0 | N49: 30 | O49: =N49*H49 -> 254.22222 | U49: =U48*3.14 -> 0.19625
A50: =IF(I50<>"",1+MAX($A$6:A49),"")
A51: =IF(I51<>"",1+MAX($A$6:A50),"") | E51: GRADING
A52: =IF(I52<>"",1+MAX($A$6:A51),"")
A53: =IF(I53<>"",1+MAX($A$6:A52),"") -> 23 | B53: C-4 | C53: C-4 | E53: Cut | F53: 6281.517 | G53: 0.1 | H53: =F53*(1+G53) -> 6909.6687 | I53: CY | J53: 110 | K53: =J53*H53 -> 760063.56 | L53: 0 | M53: 0 | N53: 110 | O53: =N53*H53 -> 760063.56
A54: =IF(I54<>"",1+MAX($A$6:A53),"") -> 24 | B54: C-4 | C54: C-4 | E54: Fill | F54: 10527.067 | G54: 0.1 | H54: =F54*(1+G54) -> 11579.774 | I54: CY | J54: 35 | K54: =J54*H54 -> 405292.09 | L54: 0 | M54: 0 | N54: 35 | O54: =N54*H54 -> 405292.09
A55: =IF(I55<>"",1+MAX($A$6:A54),"")
A56: =IF(I56<>"",1+MAX($A$6:A55),"") | E56: SOIL IMPORTED
A57: =IF(I57<>"",1+MAX($A$6:A56),"")
A58: =IF(I58<>"",1+MAX($A$6:A57),"") -> 25 | B58: C-4 | C58: C-4 | E58: Imported Soil | F58: =F54-F53 -> 4245.5503 | G58: 0.1 | H58: =F58*(1+G58) -> 4670.1053 | I58: CY | J58: 33.75 | K58: =J58*H58 -> 157616.05 | L58: 11.25 | M58: =L58*H58 -> 52538.685 | N58: 45 | O58: =N58*H58 -> 210154.74
A59: =IF(I59<>"",1+MAX($A$6:A58),"")
A60: =IF(I60<>"",1+MAX($A$6:A59),"") | E60: CLEARING & GRUBBING
A61: =IF(I61<>"",1+MAX($A$6:A60),"")
A62: =IF(I62<>"",1+MAX($A$6:A61),"") -> 26 | B62: C-4 | C62: C-4 | E62: Remove (8" Thick) Vegetation Top Soil | F62: =0.67*223348.12/27 -> 5542.3422 | G62: 0.1 | H62: =F62*(1+G62) -> 6096.5765 | I62: CY | J62: 72 | K62: =J62*H62 -> 438953.51 | L62: 0 | M62: 0 | N62: 72 | O62: =N62*H62 -> 438953.51
A63: =IF(I63<>"",1+MAX($A$6:A62),"") -> 27 | B63: C-4 | C63: C-4 | E63: 8" Thick Top Soil (New) | F63: =F62 -> 5542.3422 | G63: 0.1 | H63: =F63*(1+G63) -> 6096.5765 | I63: CY | J63: 33.75 | K63: =J63*H63 -> 205759.46 | L63: 11.25 | M63: =L63*H63 -> 68586.485 | N63: 45 | O63: =N63*H63 -> 274345.94
A64: =IF(I64<>"",1+MAX($A$6:A63),"") -> 28 | B64: C-4 | C64: C-4 | E64: Land Clearing & Grubbing | F64: 223348.12 | G64: 0.1 | H64: =F64*(1+G64) -> 245682.93 | I64: SF | J64: 1.18 | K64: =J64*H64 -> 289905.86 | L64: 0 | M64: 0 | N64: 1.18 | O64: =N64*H64 -> 289905.86
A65: =IF(I65<>"",1+MAX($A$6:A64),"")
A66: =IF(I66<>"",1+MAX($A$6:A65),"") | D66: DIV. 32 | E66: EXTERIOR IMPROVEMENTS | P66: =SUM(O71:O214) -> 2764422.8
A67: =IF(I67<>"",1+MAX($A$6:A66),"")
A68: =IF(I68<>"",1+MAX($A$6:A67),"") | E68: CIVIL WORKS
A69: =IF(I69<>"",1+MAX($A$6:A68),"")
A70: =IF(I70<>"",1+MAX($A$6:A69),"") | E70: HEAVY DUTY ASPHALT PAVEMENT
A71: =IF(I71<>"",1+MAX($A$6:A70),"")
A72: =IF(I72<>"",1+MAX($A$6:A71),"") -> 29 | B72: C-2 | C72: C-9 | E72: 1-1/2" Thick Asphaltic Concrete Wearing Coarse | F72: 35747.31 | G72: 0.1 | H72: =F72*(1+G72) -> 39322.041 | I72: SF | J72: 2.35 | K72: =J72*H72 -> 92406.796 | L72: 2.65 | M72: =L72*H72 -> 104203.41 | N72: 5 | O72: =N72*H72 -> 196610.2
A73: =IF(I73<>"",1+MAX($A$6:A72),"") -> 30 | B73: C-2 | C73: C-9 | E73: 3-1/2" Thick Asphaltic Concrete Binder Coarse | F73: =F72 -> 35747.31 | G73: 0.1 | H73: =F73*(1+G73) -> 39322.041 | I73: SF | J73: 1.974 | K73: =J73*H73 -> 77621.709 | L73: 2.226 | M73: =L73*H73 -> 87530.863 | N73: 4.2 | O73: =N73*H73 -> 165152.57
A74: =IF(I74<>"",1+MAX($A$6:A73),"") -> 31 | B74: C-2 | C74: C-9 | E74: 6" Thick Graded Aggregate Base Coarse | F74: =F72*0.5/27 -> 661.98722 | G74: 0.1 | H74: =F74*(1+G74) -> 728.18594 | I74: CY | J74: 36.04 | K74: =J74*H74 -> 26243.821 | L74: 31.96 | M74: =L74*H74 -> 23272.823 | N74: 68 | O74: =N74*H74 -> 49516.644
A75: =IF(I75<>"",1+MAX($A$6:A74),"") -> 32 | B75: C-2 | C75: C-9 | E75: 12" Thick Density Approved Subgrade Or Imported Fill | F75: =F72*1/27 -> 1323.9744 | G75: 0.1 | H75: =F75*(1+G75) -> 1456.3719 | I75: CY | J75: 21.15 | K75: =J75*H75 -> 30802.265 | L75: 23.85 | M75: =L75*H75 -> 34734.47 | N75: 45 | O75: =N75*H75 -> 65536.735
A76: =IF(I76<>"",1+MAX($A$6:A75),"")
A77: =IF(I77<>"",1+MAX($A$6:A76),"") | E77: LIGHT DUTY ASPHALT PAVEMENT
A78: =IF(I78<>"",1+MAX($A$6:A77),"")
A79: =IF(I79<>"",1+MAX($A$6:A78),"") -> 33 | B79: C-2 | C79: C-9 | E79: 1-1/2" Thick Asphaltic Concrete Wearing Coarse | F79: 25733.98 | G79: 0.1 | H79: =F79*(1+G79) -> 28307.378 | I79: SF | J79: 2.115 | K79: =J79*H79 -> 59870.104 | L79: 2.385 | M79: =L79*H79 -> 67513.097 | N79: 4.5 | O79: =N79*H79 -> 127383.2
A80: =IF(I80<>"",1+MAX($A$6:A79),"") -> 34 | B80: C-2 | C80: C-9 | E80: 2" Thick Asphaltic Concrete Binder Coarse | F80: 537.12 | G80: 0.1 | H80: =F80*(1+G80) -> 590.832 | I80: SF | J80: 1.833 | K80: =J80*H80 -> 1082.9951 | L80: 2.067 | M80: =L80*H80 -> 1221.2497 | N80: 3.9 | O80: =N80*H80 -> 2304.2448
A81: =IF(I81<>"",1+MAX($A$6:A80),"") -> 35 | B81: C-2 | C81: C-9 | E81: 6" Thick Graded Aggregate Base Coarse | F81: =F79*0.5/27 -> 476.55519 | G81: 0.1 | H81: =F81*(1+G81) -> 524.2107 | I81: CY | J81: 36.04 | K81: =J81*H81 -> 18892.554 | L81: 31.96 | M81: =L81*H81 -> 16753.774 | N81: 68 | O81: =N81*H81 -> 35646.328
A82: =IF(I82<>"",1+MAX($A$6:A81),"") -> 36 | B82: C-2 | C82: C-9 | E82: 12" Thick Density Approved Subgrade Or Imported Fill | F82: =F79*1/27 -> 953.11037 | G82: 0.1 | H82: =F82*(1+G82) -> 1048.4214 | I82: CY | J82: 21.15 | K82: =J82*H82 -> 22174.113 | L82: 23.85 | M82: =L82*H82 -> 25004.851 | N82: 45 | O82: =N82*H82 -> 47178.963
A83: =IF(I83<>"",1+MAX($A$6:A82),"")
A84: =IF(I84<>"",1+MAX($A$6:A83),"") | E84: ALDOT ASPHALT DRIVEWAY
A85: =IF(I85<>"",1+MAX($A$6:A84),"")
A86: =IF(I86<>"",1+MAX($A$6:A85),"") -> 37 | B86: C-2 | C86: C-7 | E86: 1/2" Thick Superpave Bituminous Concrete Wearing Coarse | F86: 3893.7 | G86: 0.1 | H86: =F86*(1+G86) -> 4283.07 | I86: SF | J86: 1.786 | K86: =J86*H86 -> 7649.563 | L86: 2.014 | M86: =L86*H86 -> 8626.103 | N86: 3.8 | O86: =N86*H86 -> 16275.666
A87: =IF(I87<>"",1+MAX($A$6:A86),"") -> 38 | B87: C-2 | C87: C-7 | E87: 1" Thick Superpave Bituminous Concrete Upper Binder Layer | F87: =F86 -> 3893.7 | G87: 0.1 | H87: =F87*(1+G87) -> 4283.07 | I87: SF | J87: 1.316 | K87: =J87*H87 -> 5636.5201 | L87: 1.484 | M87: =L87*H87 -> 6356.0759 | N87: 2.8 | O87: =N87*H87 -> 11992.596
A88: =IF(I88<>"",1+MAX($A$6:A87),"") -> 39 | B88: C-2 | C88: C-7 | E88: 1" Thick Superpave Bituminous Concrete Lower Binder Layer | F88: =F87 -> 3893.7 | G88: 0.1 | H88: =F88*(1+G88) -> 4283.07 | I88: SF | J88: 1.316 | K88: =J88*H88 -> 5636.5201 | L88: 1.484 | M88: =L88*H88 -> 6356.0759 | N88: 2.8 | O88: =N88*H88 -> 11992.596
A89: =IF(I89<>"",1+MAX($A$6:A88),"") -> 40 | B89: C-2 | C89: C-7 | E89: 1" Thick Superpave Bituminous Concrete Last Lower Binder Layer | F89: =F88 -> 3893.7 | G89: 0.1 | H89: =F89*(1+G89) -> 4283.07 | I89: SF | J89: 1.316 | K89: =J89*H89 -> 5636.5201 | L89: 1.484 | M89: =L89*H89 -> 6356.0759 | N89: 2.8 | O89: =N89*H89 -> 11992.596
A90: =IF(I90<>"",1+MAX($A$6:A89),"") -> 41 | B90: C-2 | C90: C-7 | E90: 6" Thick Plant Mix Bituminous Base - Mix-1 | F90: =F86*0.5/27 -> 72.105556 | G90: 0.1 | H90: =F90*(1+G90) -> 79.316111 | I90: CY | J90: 36.04 | K90: =J90*H90 -> 2858.5526 | L90: 31.96 | M90: =L90*H90 -> 2534.9429 | N90: 68 | O90: =N90*H90 -> 5393.4956
A91: =IF(I91<>"",1+MAX($A$6:A90),"") -> 42 | B91: C-2 | C91: C-7 | E91: 12" Thick Density Approved Subgrade Or Imported Fill | F91: =F86*1/27 -> 144.21111 | G91: 0.1 | H91: =F91*(1+G91) -> 158.63222 | I91: CY | J91: 21.15 | K91: =J91*H91 -> 3355.0715 | L91: 23.85 | M91: =L91*H91 -> 3783.3785 | N91: 45 | O91: =N91*H91 -> 7138.45
A92: =IF(I92<>"",1+MAX($A$6:A91),"")
A93: =IF(I93<>"",1+MAX($A$6:A92),"") | E93: HEAVY DUTY CONCRETE PAVEMENT
A94: =IF(I94<>"",1+MAX($A$6:A93),"")
A95: =IF(I95<>"",1+MAX($A$6:A94),"") -> 43 | B95: C-2 | C95: C-9 | E95: 6" Reinforced Portland Cement Concrete Pavement | F95: 11041.94 | G95: 0.1 | H95: =F95*(1+G95) -> 12146.134 | I95: SF | J95: 6.58 | K95: =J95*H95 -> 79921.562 | L95: 7.42 | M95: =L95*H95 -> 90124.314 | N95: 14 | O95: =N95*H95 -> 170045.88
A96: =IF(I96<>"",1+MAX($A$6:A95),"") -> 44 | B96: C-2 | C96: C-9 | E96: 4" Graded Aggregate Base Coarse | F96: =F95*0.33/27 -> 134.95704 | G96: 0.1 | H96: =F96*(1+G96) -> 148.45275 | I96: CY | J96: 29.15 | K96: =J96*H96 -> 4327.3976 | L96: 25.85 | M96: =L96*H96 -> 3837.5036 | N96: 55 | O96: =N96*H96 -> 8164.9012
A97: =IF(I97<>"",1+MAX($A$6:A96),"") -> 45 | B97: C-2 | C97: C-9 | E97: 12" Density Approved Subgrade Or Imported Fill | F97: =F95*1/27 -> 408.96074 | G97: 0.1 | H97: =F97*(1+G97) -> 449.85681 | I97: CY | J97: 16.45 | K97: =J97*H97 -> 7400.1446 | L97: 18.55 | M97: =L97*H97 -> 8344.8439 | N97: 35 | O97: =N97*H97 -> 15744.989
A98: =IF(I98<>"",1+MAX($A$6:A97),"") -> 46 | B98: C-2 | C98: C-9 | E98: 1/2" Expansion Joint (Grey Flexible Self Leveling Joint Filler "DOW 890SL, CRAFCO Roadsaver Silicon Or Approved) @ 40' O.C. | F98: =F95/40*2 -> 552.097 | G98: 0.1 | H98: =F98*(1+G98) -> 607.3067 | I98: LF | J98: 1.504 | K98: =J98*H98 -> 913.38928 | L98: 1.696 | M98: =L98*H98 -> 1029.9922 | N98: 3.2 | O98: =N98*H98 -> 1943.3814
A99: =IF(I99<>"",1+MAX($A$6:A98),"")
A100: =IF(I100<>"",1+MAX($A$6:A99),"") | E100: STANDARD / LIGHT DUTY CONCRETE PAVEMENT
A101: =IF(I101<>"",1+MAX($A$6:A100),"")
A102: =IF(I102<>"",1+MAX($A$6:A101),"") -> 47 | B102: C-2 | C102: C-9 | E102: 5" Reinforced Portland Cement Concrete Pavement | F102: 25180.24 | G102: 0.1 | H102: =F102*(1+G102) -> 27698.264 | I102: SF | J102: 6.58 | K102: =J102*H102 -> 182254.58 | L102: 7.42 | M102: =L102*H102 -> 205521.12 | N102: 14 | O102: =N102*H102 -> 387775.7
A103: =IF(I103<>"",1+MAX($A$6:A102),"") -> 48 | B103: C-2 | C103: C-9 | E103: 4" Graded Aggregate Base Coarse | F103: =F102*0.33/27 -> 307.75849 | G103: 0.1 | H103: =F103*(1+G103) -> 338.53434 | I103: CY | J103: 25.85 | K103: =J103*H103 -> 8751.1126 | L103: 29.15 | M103: =L103*H103 -> 9868.2759 | N103: 55 | O103: =N103*H103 -> 18619.389
A104: =IF(I104<>"",1+MAX($A$6:A103),"") -> 49 | B104: C-2 | C104: C-9 | E104: 12" Density Approved Subgrade Or Imported Fill | F104: =F102*1/27 -> 932.60148 | G104: 0.1 | H104: =F104*(1+G104) -> 1025.8616 | I104: CY | J104: 16.45 | K104: =J104*H104 -> 16875.424 | L104: 18.55 | M104: =L104*H104 -> 19029.733 | N104: 35 | O104: =N104*H104 -> 35905.157
...
