Workbook

Sheet SUMMARY
E2: Project Name:
A3: www.biddingpartners.com | E3: Address:
A4: +1 (347) 994-0941
B6: CSI DIV. | C6: DESCRIPTION | D6: TOTAL TRADE COST | E6: REMARKS
B8: DIV.01 | C8: GENERAL CONDITIONS | D8: =ESTIMATE!P8 -> 170033.98
A9: =IF(G9<>"",1+MAX($A$6:A8),"") | B9: =ESTIMATE!D14 -> DIV. 02 | C9: =ESTIMATE!E14 -> DEMOLITION / EXISTING CONDITIONS | D9: =ESTIMATE!P14 -> 45496.72
A10: =IF(G10<>"",1+MAX($A$6:A9),"") | B10: DIV.31 | C10: EARTHWORKS | D10: =ESTIMATE!P26 -> 2435137.8
A11: =IF(G11<>"",1+MAX($A$6:A9),"") | B11: DIV.32 | C11: EXTERIOR IMPROVEMENTS | D11: =ESTIMATE!P66 -> 2764422.8
A12: =IF(G12<>"",1+MAX($A$6:A11),"") | B12: DIV.33 | C12: UTILITIES | D12: =ESTIMATE!P216 -> 81403.444
A13: =IF(G13<>"",1+MAX($A$6:A8),"")
C14: SUBTOTAL | D14: =SUM(D8:D13) -> 5496494.7
C15: OVERHEAD & PROFIT - 25% | D15: =0.25*D14 -> 1374123.7
C16: TOTAL BID | D16: =SUM(D14:D15) -> 6870618.4

Sheet ESTIMATE
J2: Project Name:
A3: www.biddingpartners.com | J3: Address:
A4: 3479940941
A6: SR # | B6: REFERENCE SHEET | C6: DETAIL SHEET | D6: CSI SECT | E6: DESCRIPTION | F6: QTY. | G6: WASTAGE | H6: QTY WITH WASTAGE | I6: UNIT OF MEASURMENT | J6: UNIT LABOR COST | K6: TOTAL LABOR COST | L6: UNIT MATERIAL COST | M6: TOTAL MATERIAL COST | N6: UNIT COST | O6: TOTAL ITEM COST | P6: TOTAL TRADE COST
D8: DIV. 01 | E8: GENERAL REQUIREMENTS | P8: =SUM(O9:O13) -> 170033.98
A10: =IF(I10<>"",1+MAX($A$6:A9),"") -> 1 | E10: PERMITS & SITE SUPERVISION FEE | F10: 1 | G10: 0 | H10: =F10*(1+G10) -> 1 | I10: LS | N10: 106271.24 | O10: =N10*H10 -> 106271.24
A11: =IF(I11<>"",1+MAX($A$6:A10),"") -> 2 | E11: Allowances | F11: 1 | G11: 0 | H11: =F11*(1+G11) -> 1 | I11: LS | N11: 26567.81 | O11: =N11*H11 -> 26567.81
A12: =IF(I12<>"",1+MAX($A$6:A11),"") -> 3 | E12: Mobilization | F12: 1 | G12: 0 | H12: =F12*(1+G12) -> 1 | I12: LS | N12: 37194.934 | O12: =N12*H12 -> 37194.934
A13: =IF(I13<>"",1+MAX($A$6:A12),"")
A14: =IF(I14<>"",1+MAX($A$6:A13),"") | D14: DIV. 02 | E14: DEMOLITION / EXISTING CONDITIONS | P14: =SUM(O17:O25) -> 45496.72
A15: =IF(I15<>"",1+MAX($A$6:A14),"")
A16: =IF(I16<>"",1+MAX($A$6:A15),"") | E16: SITE DEMOLITION
A17: =IF(I17<>"",1+MAX($A$6:A16),"")
A18: =IF(I18<>"",1+MAX($A$6:A17),"") -> 4 | B18: C-1 | C18: C-1 | E18: Remove Existing Asphalt Pavement | F18: 1050.32 | G18: 0 | H18: =F18*(1+G18) -> 1050.32 | I18: SF | J18: 4 | K18: =J18*H18 -> 4201.28 | L18: 0 | M18: 0 | N18: 4 | O18: =N18*H18 -> 4201.28
A19: =IF(I19<>"",1+MAX($A$6:A18),"") -> 5 | B19: C-1 | C19: C-1 | E19: 1-1/2" Mill & Overlay Existing Asphalt Pavement | F19: 2780.22 | G19: 0 | H19: =F19*(1+G19) -> 2780.22 | I19: SF | J19: 12 | K19: =J19*H19 -> 33362.64 | L19: 0 | M19: 0 | N19: 12 | O19: =N19*H19 -> 33362.64
A20: =IF(I20<>"",1+MAX($A$6:A19),"") -> 6 | B20: C-1 | C20: C-1 | E20: Remove Existing Striping | F20: 276.2 | G20: 0 | H20: =F20*(1+G20) -> 276.2 | I20: LF | J20: 1 | K20: =J20*H20 -> 276.2 | L20: 0 | M20: 0 | N20: 1 | O20: =N20*H20 -> 276.2
A21: =IF(I21<>"",1+MAX($A$6:A20),"") -> 7 | B21: C-1 | C21: C-1 | E21: Saw Cut Existing Asphalt Pavement (Saw Cut To Provide Smooth Edge) | F21: 47.26 | G21: 0 | H21: =F21*(1+G21) -> 47.26 | I21: LF | J21: 35 | K21: =J21*H21 -> 1654.1 | L21: 0 | M21: 0 | N21: 35 | O21: =N21*H21 -> 1654.1
A22: =IF(I22<>"",1+MAX($A$6:A21),"") -> 8 | B22: C-1 | C22: C-1 | E22: Remove Existing 18" Dia RCP Drain Pipe | F22: 43.3 | G22: 0 | H22: =F22*(1+G22) -> 43.3 | I22: LF | J22: 75 | K22: =J22*H22 -> 3247.5 | L22: 0 | M22: 0 | N22: 75 | O22: =N22*H22 -> 3247.5
A23: =IF(I23<>"",1+MAX($A$6:A22),"") -> 9 | B23: C-1 | C23: C-1 | E23: Remove Existing Traffic Control Legend " Only" Text | F23: 1 | G23: 0 | H23: =F23*(1+G23) -> 1 | I23: EA | J23: 75 | K23: =J23*H23 -> 75 | L23: 0 | M23: 0 | N23: 75 | O23: =N23*H23 -> 75
A24: =IF(I24<>"",1+MAX($A$6:A23),"") -> 10 | B24: C-1 | C24: C-1 | E24: Remove Existing Wooden Poles | F24: 4 | G24: 0 | H24: =F24*(1+G24) -> 4 | I24: EA | J24: 670 | K24: =J24*H24 -> 2680 | L24: 0 | M24: 0 | N24: 670 | O24: =N24*H24 -> 2680
A25: =IF(I25<>"",1+MAX($A$6:A24),"")
A26: =IF(I26<>"",1+MAX($A$6:A25),"") | D26: DIV. 31 | E26: EARTHWORKS | P26: =SUM(O30:O65) -> 2435137.8
A27: =IF(I27<>"",1+MAX($A$6:A26),"")
A28: =IF(I28<>"",1+MAX($A$6:A27),"") | E28: EXCAVATION & BACKFILL
A29: =IF(I29<>"",1+MAX($A$6:A28),"")
A30: =IF(I30<>"",1+MAX($A$6:A29),"") | E30: STORM PIPES
A31: =IF(I31<>"",1+MAX($A$6:A30),"")
A32: =IF(I32<>"",1+MAX($A$6:A31),"") -> 11 | B32: C-4 , C9 | C32: C-4 , C9 | E32: Excavation | F32: 258.19444 | G32: 0.1 | H32: =F32*(1+G32) -> 284.01389 | I32: CY | J32: 75 | K32: =J32*H32 -> 21301.042 | L32: 0 | M32: =L32*H32 -> 0 | N32: 75 | O32: =N32*H32 -> 21301.042
A33: =IF(I33<>"",1+MAX($A$6:A32),"") -> 12 | B33: C-4 , C9 | C33: C-4 , C9 | E33: 4" Backfill (Class I Gravel Fill) - Haunch & Bedding | F33: 34.081667 | G33: 0.1 | H33: =F33*(1+G33) -> 37.489833 | I33: CY | J33: 25.85 | K33: =J33*H33 -> 969.11219 | L33: 29.15 | M33: =L33*H33 -> 1092.8286 | N33: 55 | O33: =N33*H33 -> 2061.9408
A34: =IF(I34<>"",1+MAX($A$6:A33),"") -> 13 | B34: C-4 , C9 | C34: C-4 , C9 | E34: 24" Backfill (Class I Gravel Fill) - Initial Fill | F34: 150.27556 | G34: 0.1 | H34: =F34*(1+G34) -> 165.30311 | I34: CY | J34: 40 | K34: =J34*H34 -> 6612.1244 | L34: 0 | M34: =L34*H34 -> 0 | N34: 40 | O34: =N34*H34 -> 6612.1244 | S34: =1.5*1.5 -> 2.25 | U34: =S34/4 -> 0.5625
A35: =IF(I35<>"",1+MAX($A$6:A34),"") -> 14 | B35: C-4 , C9 | C35: C-4 , C9 | E35: 6" Backfill (Native Fill) - Final Fill | F35: 51.638889 | G35: 0.1 | H35: =F35*(1+G35) -> 56.802778 | I35: CY | J35: 30 | K35: =J35*H35 -> 1704.0833 | L35: 0 | M35: =L35*H35 -> 0 | N35: 30 | O35: =N35*H35 -> 1704.0833 | U35: =U34*3.14 -> 1.76625
A36: =IF(I36<>"",1+MAX($A$6:A35),"")
A37: =IF(I37<>"",1+MAX($A$6:A36),"") | E37: WATER PIPES
A38: =IF(I38<>"",1+MAX($A$6:A37),"")
A39: =IF(I39<>"",1+MAX($A$6:A38),"") -> 15 | B39: C-3 , C9 | C39: C-3 , C9 | E39: Excavation | F39: 173.11111 | G39: 0.1 | H39: =F39*(1+G39) -> 190.42222 | I39: CY | J39: 75 | K39: =J39*H39 -> 14281.667 | L39: 0 | M39: =L39*H39 -> 0 | N39: 75 | O39: =N39*H39 -> 14281.667
A40: =IF(I40<>"",1+MAX($A$6:A39),"") -> 16 | B40: C-3 , C9 | C40: C-3 , C9 | E40: 4" Backfill (Class I Gravel Fill) - Haunch & Bedding | F40: 28.563333 | G40: 0.1 | H40: =F40*(1+G40) -> 31.419667 | I40: CY | J40: 25.85 | K40: =J40*H40 -> 812.19838 | L40: 29.15 | M40: =L40*H40 -> 915.88328 | N40: 55 | O40: =N40*H40 -> 1728.0817
A41: =IF(I41<>"",1+MAX($A$6:A40),"") -> 17 | B41: C-3 , C9 | C41: C-3 , C9 | E41: 12" Backfill (Class I Gravel Fill) - Initial Fill | F41: 80.895556 | G41: 0.1 | H41: =F41*(1+G41) -> 88.985111 | I41: CY | J41: 40 | K41: =J41*H41 -> 3559.4044 | L41: 0 | M41: =L41*H41 -> 0 | N41: 40 | O41: =N41*H41 -> 3559.4044 | S41: =0.5*0.5 -> 0.25 | U41: =S41/4 -> 0.0625
A42: =IF(I42<>"",1+MAX($A$6:A41),"") -> 18 | B42: C-3 , C9 | C42: C-3 , C9 | E42: 6" Backfill (Native Fill) - Final Fill | F42: 51.638889 | G42: 0.1 | H42: =F42*(1+G42) -> 56.802778 | I42: CY | J42: 30 | K42: =J42*H42 -> 1704.0833 | L42: 0 | M42: =L42*H42 -> 0 | N42: 30 | O42: =N42*H42 -> 1704.0833 | U42: =U41*3.14 -> 0.19625
A43: =IF(I43<>"",1+MAX($A$6:A42),"")
A44: =IF(I44<>"",1+MAX($A$6:A43),"") | E44: SEWER PIPES
...
