Workbook

Sheet BID SUMMARY
E2: Project Name:
A3: www.biddingpartners.com | E3: Address:
A4: +1 (347) 994-0941
A6: Company:
A8: PROJECT NAME: | B8: PROPOSED DISPENSARY.
A9: LOCATION: | B9: SUNLAND PARK, NEW MEXICO.
A10: BID DUE DATE: | B10: 45184
C12: MATERIALS: | D12: LABOR:
B14: LIGHTING QUOTE: | C14: =LIGHTING!K48 -> 46271.063
B16: POWER & EQUIPMENT QUOTE: | C16: ='POWER & EQUIPMENT'!K98 -> 29360.796
B18: SWITCH GEAR & FEEDERS | C18: ='SWITCH GEAR & FEEDERS'!K76 -> 28050.183
B20: LIGHTING (INSTALLTION ONLY): | C20: =LIGHTING!O48 -> 15057.532 | D20: =LIGHTING!M48 -> 188.21915
B22: POWER & EQUIPMENT (INSTALLTION ONLY): | C22: ='POWER & EQUIPMENT'!O98 -> 8423.6928 | D22: ='POWER & EQUIPMENT'!M98 -> 105.29616
B24: SWITCHGEAR & FEEDER (INSTALLTION ONLY): | C24: ='SWITCH GEAR & FEEDERS'!O76 -> 7938.4215 | D24: ='SWITCH GEAR & FEEDERS'!M76 -> 99.230268
B26: UNITS:
B28: GENERAL MATERIAL COST: | C28: =C14+C16+C18 -> 103682.04
B29: CITY TAX (%): | C29: 0.1025
B30: CITY TAX ($): | C30: =C28*C29 -> 10627.409
B31: TOTAL GENERAL MATERIAL: | C31: =C28+C30 -> 114309.45
B34: TOTAL LABOR HOURS: | C34: =D24+D22+D20 -> 392.74558 | D34: HRS
B35: MAN HOURLY RATE: | C35: 80 | D35: =C34*C35 -> 31419.646
B37: PROJECT MANAGEMENT (15%): | C37: 0.15 | D37: 65
B38: PROJECT MANAGEMENT (HRS): | C38: =C37*C34 -> 58.911837 | D38: =C38*D37 -> 3829.2694
B40: SUPERINTENDENT (15%): | C40: 0.15 | D40: 85
B41: SUPERINTENDENT (HRS): | C41: =C40*C34 -> 58.911837 | D41: =C41*D40 -> 5007.5061
B43: TOTAL LABOR: | D43: =D35+D38+D41 -> 40256.422
B46: MISCELLANOUS COST: | D46: 10000
B48: EQUIPMENT & RENTALS: | D48: 12000
B51: SUBTOTAL: | D51: =C31+D43+D48 -> 166565.87
B52: MARK UP: | C52: 0.2 | D52: =C52*D51 -> 33313.175
B54: TOTAL BID PROPOSAL: | D54: =D51+D52 -> 199879.05

Sheet LIGHTING
A1: Estimate of Materials and Cost of Construction
D3: PROJECT: | E3: PROPOSED DISPENSARY.
D4: ADDRESS: | E4: SUNLAND PARK, NEW MEXICO.
D5: SCOPE: | E5: ELECTRICAL WORK
D6: DATE | E6: 45184
A8: SR # | B8: REF. SHEET | C8: DETAIL SHEET | D8: CSI SECT. | E8: DESCRIPTION | F8: QTY. | G8: WASTAGE | H8: QTY WITH WASTAGE | I8: UNIT OF MEASURMENT | J8: UNIT MATERIAL COST | K8: TOTAL MATERIAL COST | L8: UNIT LABOR HOURS | M8: TOTAL LABOR HOURS | N8: UNIT LABOR COST | O8: TOTAL LABOR COST | P8: UNIT COST | Q8: TOTAL ITEM COST | R8: TOTAL TRADE COST
A9: =IF(I9<>"",1+MAX($A$3:A7),"") | D9: DIV. 26 | E9: ELECTRICAL | R9: =SUM(Q12:Q46) -> 61328.595
A10: =IF(I10<>"",1+MAX($A$3:A9),"")
A11: =IF(I11<>"",1+MAX($A$3:A10),"") | E11: LIGHT FIXTURE
A12: =IF(I12<>"",1+MAX($A$3:A11),"")
A13: =IF(I13<>"",1+MAX($A$3:A12),"") | E13: FLOOR PLAN
A14: =IF(I14<>"",1+MAX($A$3:A13),"")
A15: =IF(I15<>"",1+MAX($A$3:A14),"") -> 1 | B15: E1.0 | C15: E2.0 | E15: A - Recessed LED Light Fixture - Size : 12" - Manf. : Halo - Model : SMD12R209SWHE | F15: 40 | G15: 0 | H15: =F15*(1+G15) -> 40 | I15: EA | J15: 76.5 | K15: =J15*H15 -> 3060 | L15: 0.26775 | M15: =L15*H15 -> 10.71 | N15: 21.42 | O15: =N15*H15 -> 856.8 | P15: =J15+N15 -> 97.92 | Q15: =P15*H15 -> 3916.8
A16: =IF(I16<>"",1+MAX($A$3:A15),"") -> 2 | B16: E1.0 | C16: E2.0 | E16: B - Bronze Dome Light Fixture - Size : 22" - Manf. : Progress Lighting - Model : P5342-2030K9 | F16: 12 | G16: 0 | H16: =F16*(1+G16) -> 12 | I16: EA | J16: 312.71 | K16: =J16*H16 -> 3752.52 | L16: 1.094485 | M16: =L16*H16 -> 13.13382 | N16: 87.5588 | O16: =N16*H16 -> 1050.7056 | P16: =J16+N16 -> 400.2688 | Q16: =P16*H16 -> 4803.2256
A17: =IF(I17<>"",1+MAX($A$3:A16),"") -> 3 | B17: E1.0 | C17: E2.0 | E17: C - Pendant Bar Light - Size : 6" - Manf. : Elegant Lighting - Model : LDPD2001 | F17: 39 | G17: 0 | H17: =F17*(1+G17) -> 39 | I17: EA | J17: 72.2 | K17: =J17*H17 -> 2815.8 | L17: 0.2527 | M17: =L17*H17 -> 9.8553 | N17: 20.216 | O17: =N17*H17 -> 788.424 | P17: =J17+N17 -> 92.416 | Q17: =P17*H17 -> 3604.224
A18: =IF(I18<>"",1+MAX($A$3:A17),"") -> 4 | B18: E1.0 | C18: E2.0 | E18: XM - Dual Head Exit Light - Manf. : Lithonia Lighting | F18: 6 | G18: 0 | H18: =F18*(1+G18) -> 6 | I18: EA | J18: 117 | K18: =J18*H18 -> 702 | L18: 0.4095 | M18: =L18*H18 -> 2.457 | N18: 32.76 | O18: =N18*H18 -> 196.56 | P18: =J18+N18 -> 149.76 | Q18: =P18*H18 -> 898.56
A19: =IF(I19<>"",1+MAX($A$3:A18),"") -> 5 | B19: E1.0 | C19: E2.0 | E19: XM - Four Head Exit Light - Manf : WareLight | F19: 3 | G19: 0 | H19: =F19*(1+G19) -> 3 | I19: EA | J19: 148 | K19: =J19*H19 -> 444 | L19: 0.518 | M19: =L19*H19 -> 1.554 | N19: 41.44 | O19: =N19*H19 -> 124.32 | P19: =J19+N19 -> 189.44 | Q19: =P19*H19 -> 568.32
A20: =IF(I20<>"",1+MAX($A$3:A19),"") -> 6 | B20: E1.0 | C20: E2.0 | E20: E - Exterior Wall Sconce Light Emergency Battery Backup (Weather Proof) - Size : 7" - Manf. : Rivoli - Model : PWS67469BK | F20: 2 | G20: 0 | H20: =F20*(1+G20) -> 2 | I20: EA | J20: 118 | K20: =J20*H20 -> 236 | L20: 0.413 | M20: =L20*H20 -> 0.826 | N20: 33.04 | O20: =N20*H20 -> 66.08 | P20: =J20+N20 -> 151.04 | Q20: =P20*H20 -> 302.08
A21: =IF(I21<>"",1+MAX($A$3:A20),"") -> 7 | B21: E1.0 | C21: E2.0 | E21: G - Exterior Wall Sconce Light (Weather Proof) - Size : 10" - Manf. : Bellevue - Model : SH50018ORB | F21: 10 | G21: 0 | H21: =F21*(1+G21) -> 10 | I21: EA | J21: 84 | K21: =J21*H21 -> 840 | L21: 0.294 | M21: =L21*H21 -> 2.94 | N21: 23.52 | O21: =N21*H21 -> 235.2 | P21: =J21+N21 -> 107.52 | Q21: =P21*H21 -> 1075.2
A22: =IF(I22<>"",1+MAX($A$3:A21),"") -> 8 | B22: E1.0 | C22: E2.0 | E22: EM - Dual Head Emergency Light Fixture w/ Battery Backup - Manf. : Lavex - Model : 695EABRC | F22: 7 | G22: 0 | H22: =F22*(1+G22) -> 7 | I22: EA | J22: 48 | K22: =J22*H22 -> 336 | L22: 0.168 | M22: =L22*H22 -> 1.176 | N22: 13.44 | O22: =N22*H22 -> 94.08 | P22: =J22+N22 -> 61.44 | Q22: =P22*H22 -> 430.08
A23: =IF(I23<>"",1+MAX($A$3:A22),"") -> 9 | B23: E1.0 | C23: E2.0 | E23: F2 - (1-6"x3') Troffer LED Light Note: No Details Found For Light "F2" , We Assumed it as troffer, Please Verify Manf: Lithonia Lighting | F23: 63 | G23: 0 | H23: =F23*(1+G23) -> 63 | I23: EA | J23: 92 | K23: =J23*H23 -> 5796 | L23: 0.322 | M23: =L23*H23 -> 20.286 | N23: 25.76 | O23: =N23*H23 -> 1622.88 | P23: =J23+N23 -> 117.76 | Q23: =P23*H23 -> 7418.88
A24: =IF(I24<>"",1+MAX($A$3:A23),"")
A25: =IF(I25<>"",1+MAX($A$3:A24),"") | E25: CANOPY PLAN
A26: =IF(I26<>"",1+MAX($A$3:A25),"")
A27: =IF(I27<>"",1+MAX($A$3:A26),"") -> 10 | B27: A4.0 | C27: E2.0 | E27: H - 22" x 22" Parabolic Lens Troffer Grid Mounts Energy Saving LED Light Manf: Lithonia Lighting | F27: 4 | G27: 0 | H27: =F27*(1+G27) -> 4 | I27: EA | J27: 190 | K27: =J27*H27 -> 760 | L27: 0.76 | M27: =L27*H27 -> 3.04 | N27: 60.8 | O27: =N27*H27 -> 243.2 | P27: =J27+N27 -> 250.8 | Q27: =P27*H27 -> 1003.2
A28: =IF(I28<>"",1+MAX($A$3:A27),"")
A29: =IF(I29<>"",1+MAX($A$3:A28),"") | E29: SITE PLAN
A30: =IF(I30<>"",1+MAX($A$3:A29),"")
A31: =IF(I31<>"",1+MAX($A$3:A30),"") -> 11 | B31: E1.0 | C31: E1.0 | E31: SL2 - Dual Head Pole Light - Fixtures Only Assumed 80 W Lights | F31: 1 | G31: 0 | H31: =F31*(1+G31) -> 1 | I31: EA | J31: 1180 | K31: =J31*H31 -> 1180 | L31: 2.1875 | M31: =L31*H31 -> 2.1875 | N31: 175 | O31: =N31*H31 -> 175 | P31: =J31+N31 -> 1355 | Q31: =P31*H31 -> 1355
A32: =IF(I32<>"",1+MAX($A$3:A31),"") -> 12 | B32: E1.0 | C32: E1.0 | E32: SL3 - Triple Head Pole Light - Fixtures Only Assumed 80 W Lights | F32: 1 | G32: 0 | H32: =F32*(1+G32) -> 1 | I32: EA | J32: 1648 | K32: =J32*H32 -> 1648 | L32: 2.725 | M32: =L32*H32 -> 2.725 | N32: 218 | O32: =N32*H32 -> 218 | P32: =J32+N32 -> 1866 | Q32: =P32*H32 -> 1866
A33: =IF(I33<>"",1+MAX($A$3:A32),"")
A34: =IF(I34<>"",1+MAX($A$3:A33),"") | E34: CONDUITS & WIRING
A35: =IF(I35<>"",1+MAX($A$3:A34),"")
A36: =IF(I36<>"",1+MAX($A$3:A35),"") | E36: FLOOR PLAN
A37: =IF(I37<>"",1+MAX($A$3:A36),"")
A38: =IF(I38<>"",1+MAX($A$3:A37),"") -> 13 | B38: E1.0 | C38: E1.0 | E38: 3/4" Lighting Conduit | F38: 1646.3 | G38: 0.1 | H38: =F38*(1+G38) -> 1810.93 | I38: LF | J38: 2.2 | K38: =J38*H38 -> 3984.046 | L38: 0.01045 | M38: =L38*H38 -> 18.924219 | N38: 0.836 | O38: =N38*H38 -> 1513.9375 | P38: =J38+N38 -> 3.036 | Q38: =P38*H38 -> 5497.9835
A39: =IF(I39<>"",1+MAX($A$3:A38),"") -> 14 | B39: E1.1 | C39: E1.1 | E39: 2#12 Lighting Wiring | F39: =1646.3*2 -> 3292.6 | G39: 0.1 | H39: =F39*(1+G39) -> 3621.86 | I39: LF | J39: 3.72 | K39: =J39*H39 -> 13473.319 | L39: 0.01767 | M39: =L39*H39 -> 63.998266 | N39: 1.4136 | O39: =N39*H39 -> 5119.8613 | P39: =J39+N39 -> 5.1336 | Q39: =P39*H39 -> 18593.18
A40: =IF(I40<>"",1+MAX($A$3:A39),"") -> 15 | B40: E1.1 | C40: E1.1 | E40: 1#12 Ground Wiring | F40: =1646.3*1 -> 1646.3 | G40: 0.1 | H40: =F40*(1+G40) -> 1810.93 | I40: LF | J40: 3.72 | K40: =J40*H40 -> 6736.6596 | L40: 0.01767 | M40: =L40*H40 -> 31.999133 | N40: 1.4136 | O40: =N40*H40 -> 2559.9306 | P40: =J40+N40 -> 5.1336 | Q40: =P40*H40 -> 9296.5902
A41: =IF(I41<>"",1+MAX($A$3:A40),"")
A42: =IF(I42<>"",1+MAX($A$3:A41),"") | E42: CANOPY PLAN
A43: =IF(I43<>"",1+MAX($A$3:A42),"")
A44: =IF(I44<>"",1+MAX($A$3:A43),"") -> 16 | B44: E1.2 | C44: E1.2 | E44: 3/4" Lighting Conduit | F44: 34.48 | G44: 0.1 | H44: =F44*(1+G44) -> 37.928 | I44: LF | J44: 2.2 | K44: =J44*H44 -> 83.4416 | L44: 0.01045 | M44: =L44*H44 -> 0.3963476 | N44: 0.836 | O44: =N44*H44 -> 31.707808 | P44: =J44+N44 -> 3.036 | Q44: =P44*H44 -> 115.14941
A45: =IF(I45<>"",1+MAX($A$3:A44),"") -> 17 | B45: E1.2 | C45: E1.2 | E45: 2#12 Lighting Wiring | F45: =34.48*2 -> 68.96 | G45: 0.1 | H45: =F45*(1+G45) -> 75.856 | I45: LF | J45: 3.72 | K45: =J45*H45 -> 282.18432 | L45: 0.01767 | M45: =L45*H45 -> 1.3403755 | N45: 1.4136 | O45: =N45*H45 -> 107.23004 | P45: =J45+N45 -> 5.1336 | Q45: =P45*H45 -> 389.41436
A46: =IF(I46<>"",1+MAX($A$3:A45),"") -> 18 | B46: E1.2 | C46: E1.2 | E46: 1#12 Ground Wiring | F46: =34.48*1 -> 34.48 | G46: 0.1 | H46: =F46*(1+G46) -> 37.928 | I46: LF | J46: 3.72 | K46: =J46*H46 -> 141.09216 | L46: 0.01767 | M46: =L46*H46 -> 0.67018776 | N46: 1.4136 | O46: =N46*H46 -> 53.615021 | P46: =J46+N46 -> 5.1336 | Q46: =P46*H46 -> 194.70718
A47: =IF(I47<>"",1+MAX($A$3:A45),"")
K48: =SUM(K12:K47) -> 46271.063 | M48: =SUM(M11:M47) -> 188.21915 | O48: =SUM(O12:O47) -> 15057.532

Sheet POWER & EQUIPMENT
A1: Estimate of Materials and Cost of Construction
D3: PROJECT: | E3: PROPOSED DISPENSARY.
D4: ADDRESS: | E4: SUNLAND PARK, NEW MEXICO.
D5: SCOPE: | E5: ELECTRICAL WORK
D6: DATE | E6: 45184
A8: SR # | B8: REF. SHEET | C8: DETAIL SHEET | D8: CSI SECT. | E8: DESCRIPTION | F8: QTY. | G8: WASTAGE | H8: QTY WITH WASTAGE | I8: UNIT OF MEASURMENT | J8: UNIT MATERIAL COST | K8: TOTAL MATERIAL COST | L8: UNIT LABOR HOURS | M8: TOTAL LABOR HOURS | N8: UNIT LABOR COST | O8: TOTAL LABOR COST | P8: UNIT COST | Q8: TOTAL ITEM COST | R8: TOTAL TRADE COST
A9: =IF(I9<>"",1+MAX($A$3:A7),"") | D9: DIV. 26 | E9: ELECTRICAL | R9: =SUM(Q11:Q97) -> 37784.489
A10: =IF(I10<>"",1+MAX($A$3:A9),"")
A11: =IF(I11<>"",1+MAX($A$3:A10),"") | E11: POWER FIXTURE
A12: =IF(I12<>"",1+MAX($A$3:A11),"")
A13: =IF(I13<>"",1+MAX($A$3:A12),"") | E13: FLOOR PLAN
A14: =IF(I14<>"",1+MAX($A$3:A13),"")
A15: =IF(I15<>"",1+MAX($A$3:A14),"") -> 1 | B15: E1.0 | C15: E3.0 | E15: Duplex Receptacle - 15A | F15: 41 | G15: 0 | H15: =F15*(1+G15) -> 41 | I15: EA | J15: 25 | K15: =J15*H15 -> 1025 | L15: 0.0875 | M15: =L15*H15 -> 3.5875 | N15: 7 | O15: =N15*H15 -> 287 | P15: =J15+N15 -> 32 | Q15: =P15*H15 -> 1312
A16: =IF(I16<>"",1+MAX($A$3:A15),"") -> 2 | B16: E1.0 | C16: E3.0 | E16: Duplex Receptacle - Ground Fault Circuit Interrupter (Weather Proof) | F16: 4 | G16: 0 | H16: =F16*(1+G16) -> 4 | I16: EA | J16: 28 | K16: =J16*H16 -> 112 | L16: 0.098 | M16: =L16*H16 -> 0.392 | N16: 7.84 | O16: =N16*H16 -> 31.36 | P16: =J16+N16 -> 35.84 | Q16: =P16*H16 -> 143.36
A17: =IF(I17<>"",1+MAX($A$3:A16),"") -> 3 | B17: E1.0 | C17: E3.0 | E17: Junction Box, Ampere: 20A, Voltage: 120V (Weather Proof) | F17: 1 | G17: 0 | H17: =F17*(1+G17) -> 1 | I17: EA | J17: 105 | K17: =J17*H17 -> 105 | L17: 0.3675 | M17: =L17*H17 -> 0.3675 | N17: 29.4 | O17: =N17*H17 -> 29.4 | P17: =J17+N17 -> 134.4 | Q17: =P17*H17 -> 134.4
A18: =IF(I18<>"",1+MAX($A$3:A17),"") -> 4 | B18: E1.0 | C18: E3.0 | E18: Television/ Data Outlet | F18: 4 | G18: 0 | H18: =F18*(1+G18) -> 4 | I18: EA | J18: 65 | K18: =J18*H18 -> 260 | L18: 0.2275 | M18: =L18*H18 -> 0.91 | N18: 18.2 | O18: =N18*H18 -> 72.8 | P18: =J18+N18 -> 83.2 | Q18: =P18*H18 -> 332.8
A19: =IF(I19<>"",1+MAX($A$3:A18),"") -> 5 | B19: E2.0 | C19: E2.0 | E19: Photocell/ Contactor For Exterior Light | F19: 1 | G19: 0 | H19: =F19*(1+G19) -> 1 | I19: EA | J19: 135 | K19: =J19*H19 -> 135 | L19: 0.4725 | M19: =L19*H19 -> 0.4725 | N19: 37.8 | O19: =N19*H19 -> 37.8 | P19: =J19+N19 -> 172.8 | Q19: =P19*H19 -> 172.8
A20: =IF(I20<>"",1+MAX($A$3:A19),"") -> 6 | B20: E2.0 | C20: E2.0 | E20: Time Clock For Exhaust Fan | F20: 1 | G20: 0 | H20: =F20*(1+G20) -> 1 | I20: EA | J20: 44 | K20: =J20*H20 -> 44 | L20: 0.154 | M20: =L20*H20 -> 0.154 | N20: 12.32 | O20: =N20*H20 -> 12.32 | P20: =J20+N20 -> 56.32 | Q20: =P20*H20 -> 56.32
A21: =IF(I21<>"",1+MAX($A$3:A20),"") -> 7 | B21: E2.0 | C21: E2.0 | E21: 120V Contactor For Exhaust Fan | F21: 1 | G21: 0 | H21: =F21*(1+G21) -> 1 | I21: EA | J21: 55 | K21: =J21*H21 -> 55 | L21: 0.1925 | M21: =L21*H21 -> 0.1925 | N21: 15.4 | O21: =N21*H21 -> 15.4 | P21: =J21+N21 -> 70.4 | Q21: =P21*H21 -> 70.4
A22: =IF(I22<>"",1+MAX($A$3:A21),"") -> 8 | B22: E1.0 | C22: E3.0 | E22: WH-1 - Electrical Water Heater, Voltage: 240V, Phase: 2P, Ampere: 60A | F22: 1 | G22: 0 | H22: =F22*(1+G22) -> 1 | I22: EA | J22: 610 | K22: =J22*H22 -> 610 | L22: 2.135 | M22: =L22*H22 -> 2.135 | N22: 170.8 | O22: =N22*H22 -> 170.8 | P22: =J22+N22 -> 780.8 | Q22: =P22*H22 -> 780.8
A23: =IF(I23<>"",1+MAX($A$3:A22),"")
A24: =IF(I24<>"",1+MAX($A$3:A23),"") | E24: CANOPY PLAN
A25: =IF(I25<>"",1+MAX($A$3:A24),"")
A26: =IF(I26<>"",1+MAX($A$3:A25),"") -> 9 | B26: E1.0 | C26: E2.0 | E26: Junction Box, Ampere: 20A, Voltage: 120V (Weather Proof) | F26: 1 | G26: 0 | H26: =F26*(1+G26) -> 1 | I26: EA | J26: 105 | K26: =J26*H26 -> 105 | L26: 0.3675 | M26: =L26*H26 -> 0.3675 | N26: 29.4 | O26: =N26*H26 -> 29.4 | P26: =J26+N26 -> 134.4 | Q26: =P26*H26 -> 134.4
A27: =IF(I27<>"",1+MAX($A$3:A26),"")
A28: =IF(I28<>"",1+MAX($A$3:A27),"") | E28: SITE PLAN
A29: =IF(I29<>"",1+MAX($A$3:A28),"")
A30: =IF(I30<>"",1+MAX($A$3:A29),"") -> 10 | B30: E1.0 | C30: E1.0 | E30: Duplex Receptacle - Ground Fault Circuit Interrupter (Weather Proof) | F30: 1 | G30: 0 | H30: =F30*(1+G30) -> 1 | I30: EA | J30: 28 | K30: =J30*H30 -> 28 | L30: 0.098 | M30: =L30*H30 -> 0.098 | N30: 7.84 | O30: =N30*H30 -> 7.84 | P30: =J30+N30 -> 35.84 | Q30: =P30*H30 -> 35.84
A31: =IF(I31<>"",1+MAX($A$3:A30),"") -> 11 | B31: E1.0 | C31: E1.0 | E31: Junction Box, Ampere: 20A, Voltage: 120v (Weather Proof) | F31: 1 | G31: 0 | H31: =F31*(1+G31) -> 1 | I31: EA | J31: 105 | K31: =J31*H31 -> 105 | L31: 0.3675 | M31: =L31*H31 -> 0.3675 | N31: 29.4 | O31: =N31*H31 -> 29.4 | P31: =J31+N31 -> 134.4 | Q31: =P31*H31 -> 134.4
A32: =IF(I32<>"",1+MAX($A$3:A31),"")
A33: =IF(I33<>"",1+MAX($A$3:A32),"") | E33: CONDUITS & WIRING
A34: =IF(I34<>"",1+MAX($A$3:A33),"")
A35: =IF(I35<>"",1+MAX($A$3:A34),"") | E35: FLOOR PLAN
A36: =IF(I36<>"",1+MAX($A$3:A35),"")
A37: =IF(I37<>"",1+MAX($A$3:A36),"") -> 12 | B37: E1.0 | C37: E3.0 | E37: 3/4" Power Conduit | F37: 314.77 | G37: 0.1 | H37: =F37*(1+G37) -> 346.247 | I37: LF | J37: 2.2 | K37: =J37*H37 -> 761.7434 | L37: 0.0077 | M37: =L37*H37 -> 2.6661019 | N37: 0.616 | O37: =N37*H37 -> 213.28815 | P37: =J37+N37 -> 2.816 | Q37: =P37*H37 -> 975.03155
A38: =IF(I38<>"",1+MAX($A$3:A37),"") -> 13 | B38: E1.0 | C38: E3.0 | E38: 2#12 Power Wiring | F38: =314.77*2 -> 629.54 | G38: 0.1 | H38: =F38*(1+G38) -> 692.494 | I38: LF | J38: 3.72 | K38: =J38*H38 -> 2576.0777 | L38: 0.01302 | M38: =L38*H38 -> 9.0162719 | N38: 1.0416 | O38: =N38*H38 -> 721.30175 | P38: =J38+N38 -> 4.7616 | Q38: =P38*H38 -> 3297.3794
A39: =IF(I39<>"",1+MAX($A$3:A38),"") -> 14 | B39: E1.0 | C39: E3.0 | E39: 1#12 Ground Wiring | F39: =314.77*1 -> 314.77 | G39: 0.1 | H39: =F39*(1+G39) -> 346.247 | I39: LF | J39: 3.72 | K39: =J39*H39 -> 1288.0388 | L39: 0.01302 | M39: =L39*H39 -> 4.5081359 | N39: 1.0416 | O39: =N39*H39 -> 360.65088 | P39: =J39+N39 -> 4.7616 | Q39: =P39*H39 -> 1648.6897
A40: =IF(I40<>"",1+MAX($A$3:A39),"")
A41: =IF(I41<>"",1+MAX($A$3:A40),"") | E41: SITE PLAN
A42: =IF(I42<>"",1+MAX($A$3:A41),"")
A43: =IF(I43<>"",1+MAX($A$3:A42),"") -> 15 | B43: E1.0 | C43: E1.0 | E43: 3/4" Conduit | F43: 53.04 | G43: 0.1 | H43: =F43*(1+G43) -> 58.344 | I43: LF | J43: 2.2 | K43: =J43*H43 -> 128.3568 | L43: 0.0077 | M43: =L43*H43 -> 0.4492488 | N43: 0.616 | O43: =N43*H43 -> 35.939904 | P43: =J43+N43 -> 2.816 | Q43: =P43*H43 -> 164.2967
A44: =IF(I44<>"",1+MAX($A$3:A43),"") -> 16 | B44: E1.0 | C44: E1.0 | E44: 2#10 CU Wiring | F44: =53*2 -> 106 | G44: 0.1 | H44: =F44*(1+G44) -> 116.6 | I44: LF | J44: 3.82 | K44: =J44*H44 -> 445.412 | L44: 0.01337 | M44: =L44*H44 -> 1.558942 | N44: 1.0696 | O44: =N44*H44 -> 124.71536 | P44: =J44+N44 -> 4.8896 | Q44: =P44*H44 -> 570.12736
A45: =IF(I45<>"",1+MAX($A$3:A44),"") -> 17 | B45: E1.0 | C45: E1.0 | E45: 1#10 CU Ground Wiring | F45: =53.04*1 -> 53.04 | G45: 0.1 | H45: =F45*(1+G45) -> 58.344 | I45: LF | J45: 3.82 | K45: =J45*H45 -> 222.87408 | L45: 0.01337 | M45: =L45*H45 -> 0.78005928 | N45: 1.0696 | O45: =N45*H45 -> 62.404742 | P45: =J45+N45 -> 4.8896 | Q45: =P45*H45 -> 285.27882
A46: =IF(I46<>"",1+MAX($A$3:A45),"")
A47: =IF(I47<>"",1+MAX($A$3:A46),"") -> 18 | B47: E1.0 | C47: E1.0 | E47: Underground 4" Conduit | F47: 133.73 | G47: 0.1 | H47: =F47*(1+G47) -> 147.103 | I47: LF | J47: 14.2 | K47: =J47*H47 -> 2088.8626 | L47: 0.0497 | M47: =L47*H47 -> 7.3110191 | N47: 3.976 | O47: =N47*H47 -> 584.88153 | P47: =J47+N47 -> 18.176 | Q47: =P47*H47 -> 2673.7441
A48: =IF(I48<>"",1+MAX($A$3:A47),"") -> 19 | B48: E1.0 | C48: E1.0 | E48: 4-350 KCMIL Wiring | F48: =133.73*4 -> 534.92 | G48: 0.1 | H48: =F48*(1+G48) -> 588.412 | I48: LF | J48: 19.83 | K48: =J48*H48 -> 11668.21 | L48: 0.069405 | M48: =L48*H48 -> 40.838735 | N48: 5.5524 | O48: =N48*H48 -> 3267.0988 | P48: =J48+N48 -> 25.3824 | Q48: =P48*H48 -> 14935.309
A49: =IF(I49<>"",1+MAX($A$3:A48),"") -> 20 | B49: E1.0 | C49: E1.0 | E49: 1#4 CU. Ground Wiring | F49: =133.73*1 -> 133.73 | G49: 0.1 | H49: =F49*(1+G49) -> 147.103 | I49: LF | J49: 6.2 | K49: =J49*H49 -> 912.0386 | L49: 0.0217 | M49: =L49*H49 -> 3.1921351 | N49: 1.736 | O49: =N49*H49 -> 255.37081 | P49: =J49+N49 -> 7.936 | Q49: =P49*H49 -> 1167.4094
A50: =IF(I50<>"",1+MAX($A$3:A49),"")
A51: =IF(I51<>"",1+MAX($A$3:A50),"") -> 21 | B51: E1.0 | C51: E1.0 | E51: 2" Conduit w/ Pullstring (From Box To End Of Property Line) | F51: 8.63 | G51: 0.1 | H51: =F51*(1+G51) -> 9.493 | I51: LF | J51: 13.4 | K51: =J51*H51 -> 127.2062 | L51: 0.0469 | M51: =L51*H51 -> 0.4452217 | N51: 3.752 | O51: =N51*H51 -> 35.617736 | P51: =J51+N51 -> 17.152 | Q51: =P51*H51 -> 162.82394
A52: =IF(I52<>"",1+MAX($A$3:A51),"")
A53: =IF(I53<>"",1+MAX($A$3:A52),"") -> 22 | B53: E1.0 | C53: E1.0 | E53: 3/4" Conduit - For Pylon Signage | F53: 18.31 | G53: 0.1 | H53: =F53*(1+G53) -> 20.141 | I53: LF | J53: 2.2 | K53: =J53*H53 -> 44.3102 | L53: 0.0077 | M53: =L53*H53 -> 0.1550857 | N53: 0.616 | O53: =N53*H53 -> 12.406856 | P53: =J53+N53 -> 2.816 | Q53: =P53*H53 -> 56.717056
A54: =IF(I54<>"",1+MAX($A$3:A53),"") -> 23 | B54: E1.0 | C54: E1.0 | E54: 3#8 CU. Wiring | F54: =18.31*3 -> 54.93 | G54: 0.1 | H54: =F54*(1+G54) -> 60.423 | I54: LF | J54: 3.96 | K54: =J54*H54 -> 239.27508 | L54: 0.01386 | M54: =L54*H54 -> 0.83746278 | N54: 1.1088 | O54: =N54*H54 -> 66.997022 | P54: =J54+N54 -> 5.0688 | Q54: =P54*H54 -> 306.2721
A55: =IF(I55<>"",1+MAX($A$3:A54),"") -> 24 | B55: E1.0 | C55: E1.0 | E55: 1#8 CU. Ground Wiring | F55: =18.31*1 -> 18.31 | G55: 0.1 | H55: =F55*(1+G55) -> 20.141 | I55: LF | J55: 3.96 | K55: =J55*H55 -> 79.75836 | L55: 0.01386 | M55: =L55*H55 -> 0.27915426 | N55: 1.1088 | O55: =N55*H55 -> 22.332341 | P55: =J55+N55 -> 5.0688 | Q55: =P55*H55 -> 102.0907
A56: =IF(I56<>"",1+MAX($A$3:A55),"")
A57: =IF(I57<>"",1+MAX($A$3:A56),"") -> 25 | B57: E1.0 | C57: E1.0 | E57: 4" Conduit (From Wiring Gutter To Panels) | F57: =10 -> 10 | G57: 0.1 | H57: =F57*(1+G57) -> 11 | I57: LF | J57: 14.2 | K57: =J57*H57 -> 156.2 | L57: 0.0497 | M57: =L57*H57 -> 0.5467 | N57: 3.976 | O57: =N57*H57 -> 43.736 | P57: =J57+N57 -> 18.176 | Q57: =P57*H57 -> 199.936
A58: =IF(I58<>"",1+MAX($A$3:A57),"") -> 26 | B58: E1.0 | C58: E1.0 | E58: 4 #500 KCMIL CU. Thwn Wiring (From Wiring Gutter To Panels) | F58: =F57*4 -> 40 | G58: 0.1 | H58: =F58*(1+G58) -> 44 | I58: LF | J58: 12.2 | K58: =J58*H58 -> 536.8 | L58: 0.0427 | M58: =L58*H58 -> 1.8788 | N58: 3.416 | O58: =N58*H58 -> 150.304 | P58: =J58+N58 -> 15.616 | Q58: =P58*H58 -> 687.104
A59: =IF(I59<>"",1+MAX($A$3:A58),"") -> 27 | B59: E1.0 | C59: E1.0 | E59: 1 #3 Cu. Ground Wire (From Wiring Gutter To Panels) | F59: =F57*1 -> 10 | G59: 0.1 | H59: =F59*(1+G59) -> 11 | I59: LF | J59: 7.92 | K59: =J59*H59 -> 87.12 | L59: 0.02772 | M59: =L59*H59 -> 0.30492 | N59: 2.2176 | O59: =N59*H59 -> 24.3936 | P59: =J59+N59 -> 10.1376 | Q59: =P59*H59 -> 111.5136
A60: =IF(I60<>"",1+MAX($A$3:A59),"")
A61: =IF(I61<>"",1+MAX($A$3:A60),"") -> 28 | B61: E1.0 | C61: E1.0 | E61: 2-1/2" Conduit (From Wiring Gutter To Panels) | F61: =10 -> 10 | G61: 0.1 | H61: =F61*(1+G61) -> 11 | I61: LF | J61: 13.85 | K61: =J61*H61 -> 152.35 | L61: 0.048475 | M61: =L61*H61 -> 0.533225 | N61: 3.878 | O61: =N61*H61 -> 42.658 | P61: =J61+N61 -> 17.728 | Q61: =P61*H61 -> 195.008
A62: =IF(I62<>"",1+MAX($A$3:A61),"") -> 29 | B62: E1.0 | C62: E1.0 | E62: 4 #3/0 CU. Thwn Wiring (From Wiring Gutter To Panels) | F62: =F61*4 -> 40 | G62: 0.1 | H62: =F62*(1+G62) -> 44 | I62: LF | J62: 7.92 | K62: =J62*H62 -> 348.48 | L62: 0.02772 | M62: =L62*H62 -> 1.21968 | N62: 2.2176 | O62: =N62*H62 -> 97.5744 | P62: =J62+N62 -> 10.1376 | Q62: =P62*H62 -> 446.0544
A63: =IF(I63<>"",1+MAX($A$3:A62),"") -> 30 | B63: E1.0 | C63: E1.0 | E63: 1 #6 Cu. Ground Wire (From Wiring Gutter To Panels) | F63: =F61*1 -> 10 | G63: 0.1 | H63: =F63*(1+G63) -> 11 | I63: LF | J63: 5.3 | K63: =J63*H63 -> 58.3 | L63: 0.01855 | M63: =L63*H63 -> 0.20405 | N63: 1.484 | O63: =N63*H63 -> 16.324 | P63: =J63+N63 -> 6.784 | Q63: =P63*H63 -> 74.624
A64: =IF(I64<>"",1+MAX($A$3:A63),"")
A65: =IF(I65<>"",1+MAX($A$3:A64),"")
A66: =IF(I66<>"",1+MAX($A$3:A65),"") -> 31 | B66: E1.0 | C66: E1.0 | E66: 1" Conduit (Ground Rods To Metering Gutter) | F66: 20 | G66: 0.1 | H66: =F66*(1+G66) -> 22 | I66: LF | J66: 10 | K66: =J66*H66 -> 220 | L66: 0.035 | M66: =L66*H66 -> 0.77 | N66: 2.8 | O66: =N66*H66 -> 61.6 | P66: =J66+N66 -> 12.8 | Q66: =P66*H66 -> 281.6
A67: =IF(I67<>"",1+MAX($A$3:A66),"") -> 32 | B67: E1.0 | C67: E1.0 | E67: 1 #3/0 CU. Ground Wiring (Ground Rods To Metering Gutter) | F67: =F66*1 -> 20 | G67: 0.1 | H67: =F67*(1+G67) -> 22 | I67: LF | J67: 7.92 | K67: =J67*H67 -> 174.24 | L67: 0.02772 | M67: =L67*H67 -> 0.60984 | N67: 2.2176 | O67: =N67*H67 -> 48.7872 | P67: =J67+N67 -> 10.1376 | Q67: =P67*H67 -> 223.0272
A68: =IF(I68<>"",1+MAX($A$3:A67),"")
A69: =IF(I69<>"",1+MAX($A$3:A68),"") -> 33 | B69: E1.0 | C69: E1.0 | E69: (1) #2 AWG Solid Soffit Copper Wire At Lighting Pole | F69: 20 | G69: 0 | H69: =F69*(1+G69) -> 20 | I69: EA | J69: 8 | K69: =J69*H69 -> 160 | L69: 0.028 | M69: =L69*H69 -> 0.56 | N69: 2.24 | O69: =N69*H69 -> 44.8 | P69: =J69+N69 -> 10.24 | Q69: =P69*H69 -> 204.8
A70: =IF(I70<>"",1+MAX($A$3:A69),"")
A71: =IF(I71<>"",1+MAX($A$3:A70),"") -> 34 | B71: E1.0 | C71: E1.0 | E71: (2) 3" Conduit (From Main Service To Panels) | F71: =15.92*2 -> 31.84 | G71: 0.1 | H71: =F71*(1+G71) -> 35.024 | I71: LF | J71: 13.85 | K71: =J71*H71 -> 485.0824 | L71: 0.048475 | M71: =L71*H71 -> 1.6977884 | N71: 3.878 | O71: =N71*H71 -> 135.82307 | P71: =J71+N71 -> 17.728 | Q71: =P71*H71 -> 620.90547
A72: =IF(I72<>"",1+MAX($A$3:A71),"") -> 35 | B72: E1.0 | C72: E1.0 | E72: 4#250 KCMIL Aluminum Wire (From Main Service To Panels) | F72: =F71*4 -> 127.36 | G72: 0.1 | H72: =F72*(1+G72) -> 140.096 | I72: LF | J72: 8 | K72: =J72*H72 -> 1120.768 | L72: 0.028 | M72: =L72*H72 -> 3.922688 | N72: 2.24 | O72: =N72*H72 -> 313.81504 | P72: =J72+N72 -> 10.24 | Q72: =P72*H72 -> 1434.583
A73: =IF(I73<>"",1+MAX($A$3:A72),"") -> 36 | B73: E1.0 | C73: E1.0 | E73: 1-1/0 Aluminum Ground Wire (From Main Service To Panels) | F73: =F71*1 -> 31.84 | G73: 0.1 | H73: =F73*(1+G73) -> 35.024 | I73: LF | J73: 3 | K73: =J73*H73 -> 105.072 | L73: 0.0105 | M73: =L73*H73 -> 0.367752 | N73: 0.84 | O73: =N73*H73 -> 29.42016 | P73: =J73+N73 -> 3.84 | Q73: =P73*H73 -> 134.49216
A74: =IF(I74<>"",1+MAX($A$3:A73),"")
A75: =IF(I75<>"",1+MAX($A$3:A74),"") -> 37 | B75: E1.0 | C75: E1.0 | E75: Excavation (For Underground Conduits) | F75: 29.717778 | G75: 0.1 | H75: =F75*(1+G75) -> 32.689556 | I75: CY | L75: 0.06 | M75: =L75*H75 -> 1.9613733 | N75: 4.8 | O75: =N75*H75 -> 156.90987 | P75: =J75+N75 -> 4.8 | Q75: =P75*H75 -> 156.90987
A76: =IF(I76<>"",1+MAX($A$3:A75),"") -> 38 | B76: E1.0 | C76: E1.0 | E76: Backfill (After Conduits Placement) | F76: 26 | G76: 0.1 | H76: =F76*(1+G76) -> 28.6 | I76: CY | L76: 0.02 | M76: =L76*H76 -> 0.572 | N76: 1.6 | O76: =N76*H76 -> 45.76 | P76: =J76+N76 -> 1.6 | Q76: =P76*H76 -> 45.76
A77: =IF(I77<>"",1+MAX($A$3:A76),"")
A78: =IF(I78<>"",1+MAX($A$3:A77),"") | E78: SENSORS
A79: =IF(I79<>"",1+MAX($A$3:A78),"")
A80: =IF(I80<>"",1+MAX($A$3:A79),"") | E80: FLOOR PLAN
A81: =IF(I81<>"",1+MAX($A$3:A80),"")
A82: =IF(I82<>"",1+MAX($A$3:A81),"") -> 39 | B82: A4.0 | C82: A4.0 | E82: Smoke Detector | F82: 10 | G82: 0 | H82: =F82*(1+G82) -> 10 | I82: EA | J82: 42 | K82: =J82*H82 -> 420 | L82: 0.147 | M82: =L82*H82 -> 1.47 | N82: 11.76 | O82: =N82*H82 -> 117.6 | P82: =J82+N82 -> 53.76 | Q82: =P82*H82 -> 537.6
A83: =IF(I83<>"",1+MAX($A$3:A82),"")
A84: =IF(I84<>"",1+MAX($A$3:A83),"") | E84: FLOOR PLAN
A85: =IF(I85<>"",1+MAX($A$3:A84),"")
A86: =IF(I86<>"",1+MAX($A$3:A85),"") -> 40 | B86: E1.0 | C86: E1.0 | E86: Timer Contactor Controlled By Photocell | F86: 2 | G86: 0 | H86: =F86*(1+G86) -> 2 | I86: EA | J86: 35 | K86: =J86*H86 -> 70 | L86: 0.1225 | M86: =L86*H86 -> 0.245 | N86: 9.8 | O86: =N86*H86 -> 19.6 | P86: =J86+N86 -> 44.8 | Q86: =P86*H86 -> 89.6
A87: =IF(I87<>"",1+MAX($A$3:A86),"")
A88: =IF(I88<>"",1+MAX($A$3:A87),"") | E88: SWITCHES
A89: =IF(I89<>"",1+MAX($A$3:A88),"")
A90: =IF(I90<>"",1+MAX($A$3:A89),"") | E90: FLOOR PLAN
A91: =IF(I91<>"",1+MAX($A$3:A90),"")
A92: =IF(I92<>"",1+MAX($A$3:A91),"") -> 41 | B92: E1.0 | C92: E2.0 | E92: Single Pole Switch - 15A | F92: 9 | G92: 0 | H92: =F92*(1+G92) -> 9 | I92: EA | J92: 22 | K92: =J92*H92 -> 198 | L92: 0.077 | M92: =L92*H92 -> 0.693 | N92: 6.16 | O92: =N92*H92 -> 55.44 | P92: =J92+N92 -> 28.16 | Q92: =P92*H92 -> 253.44
A93: =IF(I93<>"",1+MAX($A$3:A92),"") -> 42 | B93: E1.0 | C93: E2.0 | E93: 3-Way Switch | F93: 2 | G93: 0 | H93: =F93*(1+G93) -> 2 | I93: EA | J93: 28 | K93: =J93*H93 -> 56 | L93: 0.098 | M93: =L93*H93 -> 0.196 | N93: 7.84 | O93: =N93*H93 -> 15.68 | P93: =J93+N93 -> 35.84 | Q93: =P93*H93 -> 71.68
A94: =IF(I94<>"",1+MAX($A$3:A93),"") -> 43 | B94: E1.0 | C94: E2.0 | E94: Toggle Switch, 1Pole, 20Ampere For Exhaust Fan | F94: 1 | G94: 0 | H94: =F94*(1+G94) -> 1 | I94: EA | J94: 28.22 | K94: =J94*H94 -> 28.22 | L94: 0.09877 | M94: =L94*H94 -> 0.09877 | N94: 7.9016 | O94: =N94*H94 -> 7.9016 | P94: =J94+N94 -> 36.1216 | Q94: =P94*H94 -> 36.1216
A95: =IF(I95<>"",1+MAX($A$3:A94),"") -> 44 | B95: E1.0 | C95: E2.0 | E95: Wall Mounted Occupancy Sensor Switch Dual Technology. Basis Of Design, Manufacturer: Greengage, Model: OSW-DT | F95: 19 | G95: 0 | H95: =F95*(1+G95) -> 19 | I95: EA | J95: 92 | K95: =J95*H95 -> 1748 | L95: 0.322 | M95: =L95*H95 -> 6.118 | N95: 25.76 | O95: =N95*H95 -> 489.44 | P95: =J95+N95 -> 117.76 | Q95: =P95*H95 -> 2237.44
A96: =IF(I96<>"",1+MAX($A$3:A95),"") -> 45 | B96: E1.0 | C96: E2.0 | E96: Motor Rated Switch - 30A | F96: 2 | G96: 0 | H96: =F96*(1+G96) -> 2 | I96: EA | J96: 35 | K96: =J96*H96 -> 70 | L96: 0.1225 | M96: =L96*H96 -> 0.245 | N96: 9.8 | O96: =N96*H96 -> 19.6 | P96: =J96+N96 -> 44.8 | Q96: =P96*H96 -> 89.6
A97: =IF(I97<>"",1+MAX($A$3:A96),"")
K98: =SUM(K10:K97) -> 29360.796 | M98: =SUM(M10:M97) -> 105.29616 | O98: =SUM(O10:O97) -> 8423.6928

Sheet SWITCH GEAR & FEEDERS
A1: Estimate of Materials and Cost of Construction
D3: PROJECT: | E3: PROPOSED DISPENSARY.
D4: ADDRESS: | E4: SUNLAND PARK, NEW MEXICO.
D5: SCOPE: | E5: ELECTRICAL WORK
D6: DATE | E6: 45184
A8: SR # | B8: REF. SHEET | C8: DETAIL SHEET | D8: CSI SECT. | E8: DESCRIPTION | F8: QTY. | G8: WASTAGE | H8: QTY WITH WASTAGE | I8: UNIT OF MEASURMENT | J8: UNIT MATERIAL COST | K8: TOTAL MATERIAL COST | L8: UNIT LABOR HOURS | M8: TOTAL LABOR HOURS | N8: UNIT LABOR COST | O8: TOTAL LABOR COST | P8: UNIT COST | Q8: TOTAL ITEM COST | R8: TOTAL TRADE COST
A9: =IF(I9<>"",1+MAX($A$3:A7),"") | D9: DIV. 26 | E9: ELECTRICAL | R9: =SUM(Q11:Q75) -> 35990.046
A10: =IF(I10<>"",1+MAX($A$3:A9),"")
A11: =IF(I11<>"",1+MAX($A$3:A10),"") | E11: PANEL
A12: =IF(I12<>"",1+MAX($A$3:A11),"")
A13: =IF(I13<>"",1+MAX($A$3:A12),"") -> 1 | B13: E1.0 | C13: E1.0 | E13: Panelboard "B" - Voltage: 120/208V, Phase: 3PH, Ampere: 200A, Wire: 4 | F13: 1 | G13: 0 | H13: =F13*(1+G13) -> 1 | I13: EA | J13: 592 | K13: =J13*H13 -> 592 | L13: 2.072 | M13: =L13*H13 -> 2.072 | N13: 165.76 | O13: =N13*H13 -> 165.76 | P13: =J13+N13 -> 757.76 | Q13: =P13*H13 -> 757.76
A14: =IF(I14<>"",1+MAX($A$3:A13),"")
A15: =IF(I15<>"",1+MAX($A$3:A14),"") | E15: PANEL "B" CIRCUIT BREAKER
A16: =IF(I16<>"",1+MAX($A$3:A15),"")
A17: =IF(I17<>"",1+MAX($A$3:A16),"") -> 2 | B17: E1.0 | C17: E1.0 | E17: Circuit Breaker, Ampere: 20A, Pole: 1P | F17: 20 | G17: 0 | H17: =F17*(1+G17) -> 20 | I17: EA | J17: 78 | K17: =J17*H17 -> 1560 | L17: 0.273 | M17: =L17*H17 -> 5.46 | N17: 21.84 | O17: =N17*H17 -> 436.8 | P17: =J17+N17 -> 99.84 | Q17: =P17*H17 -> 1996.8
A18: =IF(I18<>"",1+MAX($A$3:A17),"")
A19: =IF(I19<>"",1+MAX($A$3:A18),"") | E19: TRANSFORMER
A20: =IF(I20<>"",1+MAX($A$3:A19),"")
A21: =IF(I21<>"",1+MAX($A$3:A20),"") -> 3 | B21: E1.0 | C21: E1.0 | E21: Pole Mounted Utility Transformer, Voltage: 120/208V, Phase: 3PH, Ampere: 600A, Wire: 4W - By Utility Company | F21: 1 | G21: 0 | H21: =F21*(1+G21) -> 1 | I21: EA | J21: 7500 | K21: =J21*H21 -> 7500 | L21: 26.25 | M21: =L21*H21 -> 26.25 | N21: 2100 | O21: =N21*H21 -> 2100 | P21: =J21+N21 -> 9600 | Q21: =P21*H21 -> 9600
A22: =IF(I22<>"",1+MAX($A$3:A21),"")
A23: =IF(I23<>"",1+MAX($A$3:A22),"") | E23: CIRCUIT BREAKER
A24: =IF(I24<>"",1+MAX($A$3:A23),"")
A25: =IF(I25<>"",1+MAX($A$3:A24),"") -> 4 | B25: E1.0 | C25: E1.0 | E25: Circuit Breaker , Voltage: 120V - For Circulating Pump | F25: 1 | G25: 0 | H25: =F25*(1+G25) -> 1 | I25: EA | J25: 108 | K25: =J25*H25 -> 108 | L25: 0.378 | M25: =L25*H25 -> 0.378 | N25: 30.24 | O25: =N25*H25 -> 30.24 | P25: =J25+N25 -> 138.24 | Q25: =P25*H25 -> 138.24
A26: =IF(I26<>"",1+MAX($A$3:A25),"")
A27: =IF(I27<>"",1+MAX($A$3:A26),"") | E27: DISCONNECT SWITCH
A28: =IF(I28<>"",1+MAX($A$3:A27),"")
A29: =IF(I29<>"",1+MAX($A$3:A28),"") -> 5 | B29: E1.0 | C29: E1.0 | E29: Disconnect Switch For Outdoor Unit (Weather Proof) | F29: 3 | G29: 0 | H29: =F29*(1+G29) -> 3 | I29: EA | J29: 120 | K29: =J29*H29 -> 360 | L29: 0.42 | M29: =L29*H29 -> 1.26 | N29: 33.6 | O29: =N29*H29 -> 100.8 | P29: =J29+N29 -> 153.6 | Q29: =P29*H29 -> 460.8
A30: =IF(I30<>"",1+MAX($A$3:A29),"") -> 6 | B30: E1.0 | C30: E1.0 | E30: Disconnect Switch For Indoor Unit (Weather Proof) | F30: 2 | G30: 0 | H30: =F30*(1+G30) -> 2 | I30: EA | J30: 120 | K30: =J30*H30 -> 240 | L30: 0.42 | M30: =L30*H30 -> 0.84 | N30: 33.6 | O30: =N30*H30 -> 67.2 | P30: =J30+N30 -> 153.6 | Q30: =P30*H30 -> 307.2
A31: =IF(I31<>"",1+MAX($A$3:A30),"") -> 7 | B31: E1.0 | C31: E1.0 | E31: Disconnect Switch For RTU (Weather Proof) | F31: 3 | G31: 0 | H31: =F31*(1+G31) -> 3 | I31: EA | J31: 120 | K31: =J31*H31 -> 360 | L31: 0.42 | M31: =L31*H31 -> 1.26 | N31: 33.6 | O31: =N31*H31 -> 100.8 | P31: =J31+N31 -> 153.6 | Q31: =P31*H31 -> 460.8
A32: =IF(I32<>"",1+MAX($A$3:A31),"") -> 8 | B32: E1.0 | C32: E1.0 | E32: Disconnect Switch For Electric Water Heater (Weather Proof) | F32: 1 | G32: 0 | H32: =F32*(1+G32) -> 1 | I32: EA | J32: 120 | K32: =J32*H32 -> 120 | L32: 0.42 | M32: =L32*H32 -> 0.42 | N32: 33.6 | O32: =N32*H32 -> 33.6 | P32: =J32+N32 -> 153.6 | Q32: =P32*H32 -> 153.6
A33: =IF(I33<>"",1+MAX($A$3:A32),"")
A34: =IF(I34<>"",1+MAX($A$3:A33),"") | E34: METERS
A35: =IF(I35<>"",1+MAX($A$3:A34),"") -> 9 | B35: E1.0 | C35: E1.0 | E35: Electrical Meter By Power Company | F35: 1 | G35: 0 | H35: =F35*(1+G35) -> 1 | I35: EA | J35: 700 | K35: =J35*H35 -> 700 | L35: 2.45 | M35: =L35*H35 -> 2.45 | N35: 196 | O35: =N35*H35 -> 196 | P35: =J35+N35 -> 896 | Q35: =P35*H35 -> 896
A36: =IF(I36<>"",1+MAX($A$3:A35),"")
A37: =IF(I37<>"",1+MAX($A$3:A36),"") | E37: ELECTRICAL EQUIPMENT
A38: =IF(I38<>"",1+MAX($A$3:A37),"") -> 10 | B38: E1.0 | C38: E1.0 | E38: Proposed Electrical Service Disconnect, Ampere: 600A, Voltage: 208/120V, Phase: 3PH, Wire: 4W, w/ 600Ampere Fuses | F38: 1 | G38: 0 | H38: =F38*(1+G38) -> 1 | I38: EA | J38: 3684 | K38: =J38*H38 -> 3684 | L38: 12.894 | M38: =L38*H38 -> 12.894 | N38: 1031.52 | O38: =N38*H38 -> 1031.52 | P38: =J38+N38 -> 4715.52 | Q38: =P38*H38 -> 4715.52
A39: =IF(I39<>"",1+MAX($A$3:A38),"") -> 11 | B39: E1.0 | C39: E1.0 | E39: CT Cabinet | F39: 1 | G39: 0 | H39: =F39*(1+G39) -> 1 | I39: EA | J39: 1497 | K39: =J39*H39 -> 1497 | L39: 2.65 | M39: =L39*H39 -> 2.65 | N39: 212 | O39: =N39*H39 -> 212 | P39: =J39+N39 -> 1709 | Q39: =P39*H39 -> 1709
A40: =IF(I40<>"",1+MAX($A$3:A39),"") -> 12 | B40: E1.0 | C40: E1.0 | E40: 10"x10"x60" Metering Gutter, Voltage: 120/208V, Phase: 3PH, Wire: 4W | F40: 1 | G40: 0 | H40: =F40*(1+G40) -> 1 | I40: EA | J40: 650 | K40: =J40*H40 -> 650 | L40: 2.275 | M40: =L40*H40 -> 2.275 | N40: 182 | O40: =N40*H40 -> 182 | P40: =J40+N40 -> 832 | Q40: =P40*H40 -> 832
A41: =IF(I41<>"",1+MAX($A$3:A40),"") -> 13 | B41: E1.0 | C41: E1.0 | E41: Wiring Gutter | F41: 1 | G41: 0 | H41: =F41*(1+G41) -> 1 | I41: EA | J41: 375 | K41: =J41*H41 -> 375 | L41: 1.3125 | M41: =L41*H41 -> 1.3125 | N41: 105 | O41: =N41*H41 -> 105 | P41: =J41+N41 -> 480 | Q41: =P41*H41 -> 480
A42: =IF(I42<>"",1+MAX($A$3:A41),"") -> 14 | B42: E1.0 | C42: E1.0 | E42: Weather Head Per Utility Company Standards (10'H) | F42: 1 | G42: 0 | H42: =F42*(1+G42) -> 1 | I42: EA | J42: 220 | K42: =J42*H42 -> 220 | L42: 0.77 | M42: =L42*H42 -> 0.77 | N42: 61.6 | O42: =N42*H42 -> 61.6 | P42: =J42+N42 -> 281.6 | Q42: =P42*H42 -> 281.6
A43: =IF(I43<>"",1+MAX($A$3:A42),"") -> 15 | B43: E1.0 | C43: E1.0 | E43: 3/4" Copper Weld Ground Rods - 10' High | F43: 2 | G43: 0 | H43: =F43*(1+G43) -> 2 | I43: EA | J43: 65 | K43: =J43*H43 -> 130 | L43: 0.2275 | M43: =L43*H43 -> 0.455 | N43: 18.2 | O43: =N43*H43 -> 36.4 | P43: =J43+N43 -> 83.2 | Q43: =P43*H43 -> 166.4
A44: =IF(I44<>"",1+MAX($A$3:A43),"")
A45: =IF(I45<>"",1+MAX($A$3:A44),"") | E45: SITE PLAN
A46: =IF(I46<>"",1+MAX($A$3:A45),"")
A47: =IF(I47<>"",1+MAX($A$3:A46),"") | E47: ELECTRICAL EQUIPMENT
A48: =IF(I48<>"",1+MAX($A$3:A47),"") -> 16 | B48: E1.0 | C48: E1.0 | E48: Proposed Electrical Service Pole (15'H) Note: Height is Assumed | F48: 1 | G48: 0 | H48: =F48*(1+G48) -> 1 | I48: EA | J48: 2475 | K48: =J48*H48 -> 2475 | L48: 8.6625 | M48: =L48*H48 -> 8.6625 | N48: 693 | O48: =N48*H48 -> 693 | P48: =J48+N48 -> 3168 | Q48: =P48*H48 -> 3168
A49: =IF(I49<>"",1+MAX($A$3:A48),"") -> 17 | B49: E1.0 | C49: E1.0 | E49: (4'x1'-6") AT&T Telephone Box | F49: 1 | G49: 0 | H49: =F49*(1+G49) -> 1 | I49: EA | J49: 380 | K49: =J49*H49 -> 380 | L49: 1.33 | M49: =L49*H49 -> 1.33 | N49: 106.4 | O49: =N49*H49 -> 106.4 | P49: =J49+N49 -> 486.4 | Q49: =P49*H49 -> 486.4
A50: =IF(I50<>"",1+MAX($A$3:A49),"")
A51: =IF(I51<>"",1+MAX($A$3:A50),"") | E51: DISCONNECT SWITCH
A52: =IF(I52<>"",1+MAX($A$3:A51),"")
A53: =IF(I53<>"",1+MAX($A$3:A52),"") -> 18 | B53: E1.0 | C53: E1.0 | E53: Disconnect Switch (Weather Proof) | F53: 1 | G53: 0 | H53: =F53*(1+G53) -> 1 | I53: EA | J53: 120 | K53: =J53*H53 -> 120 | L53: 0.42 | M53: =L53*H53 -> 0.42 | N53: 33.6 | O53: =N53*H53 -> 33.6 | P53: =J53+N53 -> 153.6 | Q53: =P53*H53 -> 153.6
A54: =IF(I54<>"",1+MAX($A$3:A53),"")
A55: =IF(I55<>"",1+MAX($A$3:A54),"") | E55: CIRCUITE BREAKER
A56: =IF(I56<>"",1+MAX($A$3:A55),"")
A57: =IF(I57<>"",1+MAX($A$3:A56),"") -> 19 | B57: E1.0 | C57: E1.0 | E57: Circuit Breaker, Voltage: 208V, Pole: 2P, Ampere: 30A | F57: 1 | G57: 0 | H57: =F57*(1+G57) -> 1 | I57: EA | J57: 108 | K57: =J57*H57 -> 108 | L57: 0.378 | M57: =L57*H57 -> 0.378 | N57: 30.24 | O57: =N57*H57 -> 30.24 | P57: =J57+N57 -> 138.24 | Q57: =P57*H57 -> 138.24
A58: =IF(I58<>"",1+MAX($A$3:A57),"")
A59: =IF(I59<>"",1+MAX($A$3:A58),"") | E59: ELECTRICAL POLE
A60: =IF(I60<>"",1+MAX($A$3:A59),"")
A61: =IF(I61<>"",1+MAX($A$3:A60),"") -> 20 | B61: E1.0 | C61: E1.0 | E61: Lighting Standard Pole (15'H) Note: Height is Assumed | F61: 2 | G61: 0 | H61: =F61*(1+G61) -> 2 | I61: EA | J61: 2475 | K61: =J61*H61 -> 4950 | L61: 3.25 | M61: =L61*H61 -> 6.5 | N61: 260 | O61: =N61*H61 -> 520 | P61: =J61+N61 -> 2735 | Q61: =P61*H61 -> 5470
A62: =IF(I62<>"",1+MAX($A$3:A61),"") -> 21 | B62: E1.0 | C62: E1.0 | E62: (4" x 6") Hand Hole | F62: 2 | G62: 0 | H62: =F62*(1+G62) -> 2 | I62: EA | J62: 70 | K62: =J62*H62 -> 140 | L62: 0.2975 | M62: =L62*H62 -> 0.595 | N62: 23.8 | O62: =N62*H62 -> 47.6 | P62: =J62+N62 -> 93.8 | Q62: =P62*H62 -> 187.6
A63: =IF(I63<>"",1+MAX($A$3:A61),"") -> 21 | B63: E1.0 | C63: E1.0 | E63: Ground Lug In Pole | F63: 2 | G63: 0 | H63: =F63*(1+G63) -> 2 | I63: EA | J63: 24 | K63: =J63*H63 -> 48 | L63: 0.102 | M63: =L63*H63 -> 0.204 | N63: 8.16 | O63: =N63*H63 -> 16.32 | P63: =J63+N63 -> 32.16 | Q63: =P63*H63 -> 64.32
A64: =IF(I64<>"",1+MAX($A$3:A63),"") -> 22 | B64: E1.0 | C64: E1.0 | E64: (1/2"Dia x 8'-0") Copper weld Ground Rod | F64: 2 | G64: 0 | H64: =F64*(1+G64) -> 2 | I64: EA | J64: 55 | K64: =J64*H64 -> 110 | L64: 0.23375 | M64: =L64*H64 -> 0.4675 | N64: 18.7 | O64: =N64*H64 -> 37.4 | P64: =J64+N64 -> 73.7 | Q64: =P64*H64 -> 147.4
A65: =IF(I65<>"",1+MAX($A$3:A64),"") -> 23 | B65: E1.0 | C65: E1.0 | E65: Cast Bronze Clamp (3/32" Thickness) | F65: 2 | G65: 0 | H65: =F65*(1+G65) -> 2 | I65: EA | J65: 16 | K65: =J65*H65 -> 32 | L65: 0.068 | M65: =L65*H65 -> 0.136 | N65: 5.44 | O65: =N65*H65 -> 10.88 | P65: =J65+N65 -> 21.44 | Q65: =P65*H65 -> 42.88
A66: =IF(I66<>"",1+MAX($A$3:A65),"") -> 24 | B66: E1.0 | C66: E1.0 | E66: Anchor Bolt Cover | F66: 2 | G66: 0 | H66: =F66*(1+G66) -> 2 | I66: EA | J66: 11.5 | K66: =J66*H66 -> 23 | L66: 0.048875 | M66: =L66*H66 -> 0.09775 | N66: 3.91 | O66: =N66*H66 -> 7.82 | P66: =J66+N66 -> 15.41 | Q66: =P66*H66 -> 30.82
A67: =IF(I67<>"",1+MAX($A$3:A66),"") -> 25 | B67: E1.0 | C67: E1.0 | E67: Anchor Bolt | F67: 8 | G67: 0 | H67: =F67*(1+G67) -> 8 | I67: EA | J67: 75 | K67: =J67*H67 -> 600 | L67: 0.31875 | M67: =L67*H67 -> 2.55 | N67: 25.5 | O67: =N67*H67 -> 204 | P67: =J67+N67 -> 100.5 | Q67: =P67*H67 -> 804
A68: =IF(I68<>"",1+MAX($A$3:A67),"")
A69: =IF(I69<>"",1+MAX($A$3:A68),"") -> 26 | B69: E1.0 | C69: E1.0 | E69: 24" Circular Concrete Base (6'h) Note: Size & Depth Assumed | F69: 2.09 | G69: 0.1 | H69: =F69*(1+G69) -> 2.299 | I69: CY | J69: =P69*0.53 -> 304.75 | K69: =J69*H69 -> 700.62025 | L69: 3.378125 | M69: =L69*H69 -> 7.7663094 | N69: 270.25 | O69: =N69*H69 -> 621.30475 | P69: 575 | Q69: =P69*H69 -> 1321.925
A70: =IF(I70<>"",1+MAX($A$3:A69),"") -> 27 | B70: E1.0 | C70: E1.0 | E70: 4#6 Bars Vertical Note: We Assumed Reinforcement | F70: =4*3*6*1.5 -> 108 | G70: 0.1 | H70: =F70*(1+G70) -> 118.8 | I70: LBS | J70: =P70*0.53 -> 1.696 | K70: =J70*H70 -> 201.4848 | L70: 0.0188 | M70: =L70*H70 -> 2.23344 | N70: 1.504 | O70: =N70*H70 -> 178.6752 | P70: 3.2 | Q70: =P70*H70 -> 380.16
A71: =IF(I71<>"",1+MAX($A$3:A70),"") -> 28 | B71: E1.0 | C71: E1.0 | E71: #3 Stirrups @ 9" O.C. Note: We Assumed Reinforcement | F71: =6/0.75*6.28*3*0.376 -> 56.67072 | G71: 0.1 | H71: =F71*(1+G71) -> 62.337792 | I71: LBS | J71: =P71*0.53 -> 1.06 | K71: =J71*H71 -> 66.07806 | L71: 0.01175 | M71: =L71*H71 -> 0.73246906 | N71: 0.94 | O71: =N71*H71 -> 58.597524 | P71: 2 | Q71: =P71*H71 -> 124.67558
A72: =IF(I72<>"",1+MAX($A$3:A71),"")
A73: =IF(I73<>"",1+MAX($A$3:A72),"") -> 29 | B73: E1.0 | C73: E1.0 | E73: Excavation (For Lighting & Service Pole Footings) | F73: 4.32 | G73: 0.1 | H73: =F73*(1+G73) -> 4.752 | I73: CY | L73: 1.06 | M73: =L73*H73 -> 5.03712 | N73: 84.8 | O73: =N73*H73 -> 402.9696 | P73: 85 | Q73: =P73*H73 -> 403.92
A74: =IF(I74<>"",1+MAX($A$3:A73),"") -> 30 | B74: E1.0 | C74: E1.0 | E74: Backfill (For Lighting & Service Pole Footings) | F74: =F73-F69 -> 2.23 | G74: 0.1 | H74: =F74*(1+G74) -> 2.453 | I74: CY | L74: 0.56 | M74: =L74*H74 -> 1.37368 | N74: 44.8 | O74: =N74*H74 -> 109.8944 | P74: 45 | Q74: =P74*H74 -> 110.385
A75: =IF(I75<>"",1+MAX($A$3:A34),"")
K76: =SUM(K11:K75) -> 28050.183 | M76: =SUM(M11:M75) -> 99.230268 | O76: =SUM(O11:O75) -> 7938.4215
