Workbook

Sheet BID SUMMARY
E2: Project Name:
A3: www.biddingpartners.com | E3: Address:
A4: +1 (347) 994-0941
A6: Company:
A8: PROJECT NAME: | B8: PROPOSED DISPENSARY.
A9: LOCATION: | B9: SUNLAND PARK, NEW MEXICO.
A10: BID DUE DATE: | B10: 45184
C12: MATERIALS: | D12: LABOR:
B14: LIGHTING QUOTE: | C14: =LIGHTING!K48 -> 46271.063
B16: POWER & EQUIPMENT QUOTE: | C16: ='POWER & EQUIPMENT'!K98 -> 29360.796
B18: SWITCH GEAR & FEEDERS | C18: ='SWITCH GEAR & FEEDERS'!K76 -> 28050.183
B20: LIGHTING (INSTALLTION ONLY): | C20: =LIGHTING!O48 -> 15057.532 | D20: =LIGHTING!M48 -> 188.21915
B22: POWER & EQUIPMENT (INSTALLTION ONLY): | C22: ='POWER & EQUIPMENT'!O98 -> 8423.6928 | D22: ='POWER & EQUIPMENT'!M98 -> 105.29616
B24: SWITCHGEAR & FEEDER (INSTALLTION ONLY): | C24: ='SWITCH GEAR & FEEDERS'!O76 -> 7938.4215 | D24: ='SWITCH GEAR & FEEDERS'!M76 -> 99.230268
B26: UNITS:
B28: GENERAL MATERIAL COST: | C28: =C14+C16+C18 -> 103682.04
B29: CITY TAX (%): | C29: 0.1025
B30: CITY TAX ($): | C30: =C28*C29 -> 10627.409
B31: TOTAL GENERAL MATERIAL: | C31: =C28+C30 -> 114309.45
B34: TOTAL LABOR HOURS: | C34: =D24+D22+D20 -> 392.74558 | D34: HRS
B35: MAN HOURLY RATE: | C35: 80 | D35: =C34*C35 -> 31419.646
B37: PROJECT MANAGEMENT (15%): | C37: 0.15 | D37: 65
B38: PROJECT MANAGEMENT (HRS): | C38: =C37*C34 -> 58.911837 | D38: =C38*D37 -> 3829.2694
B40: SUPERINTENDENT (15%): | C40: 0.15 | D40: 85
B41: SUPERINTENDENT (HRS): | C41: =C40*C34 -> 58.911837 | D41: =C41*D40 -> 5007.5061
B43: TOTAL LABOR: | D43: =D35+D38+D41 -> 40256.422
B46: MISCELLANOUS COST: | D46: 10000
B48: EQUIPMENT & RENTALS: | D48: 12000
B51: SUBTOTAL: | D51: =C31+D43+D48 -> 166565.87
B52: MARK UP: | C52: 0.2 | D52: =C52*D51 -> 33313.175
B54: TOTAL BID PROPOSAL: | D54: =D51+D52 -> 199879.05

Sheet LIGHTING
A1: Estimate of Materials and Cost of Construction
D3: PROJECT: | E3: PROPOSED DISPENSARY.
D4: ADDRESS: | E4: SUNLAND PARK, NEW MEXICO.
D5: SCOPE: | E5: ELECTRICAL WORK
D6: DATE | E6: 45184
A8: SR # | B8: REF. SHEET | C8: DETAIL SHEET | D8: CSI SECT. | E8: DESCRIPTION | F8: QTY. | G8: WASTAGE | H8: QTY WITH WASTAGE | I8: UNIT OF MEASURMENT | J8: UNIT MATERIAL COST | K8: TOTAL MATERIAL COST | L8: UNIT LABOR HOURS | M8: TOTAL LABOR HOURS | N8: UNIT LABOR COST | O8: TOTAL LABOR COST | P8: UNIT COST | Q8: TOTAL ITEM COST | R8: TOTAL TRADE COST
A9: =IF(I9<>"",1+MAX($A$3:A7),"") | D9: DIV. 26 | E9: ELECTRICAL | R9: =SUM(Q12:Q46) -> 61328.595
A10: =IF(I10<>"",1+MAX($A$3:A9),"")
A11: =IF(I11<>"",1+MAX($A$3:A10),"") | E11: LIGHT FIXTURE
A12: =IF(I12<>"",1+MAX($A$3:A11),"")
A13: =IF(I13<>"",1+MAX($A$3:A12),"") | E13: FLOOR PLAN
A14: =IF(I14<>"",1+MAX($A$3:A13),"")
A15: =IF(I15<>"",1+MAX($A$3:A14),"") -> 1 | B15: E1.0 | C15: E2.0 | E15: A - Recessed LED Light Fixture - Size : 12" - Manf. : Halo - Model : SMD12R209SWHE | F15: 40 | G15: 0 | H15: =F15*(1+G15) -> 40 | I15: EA | J15: 76.5 | K15: =J15*H15 -> 3060 | L15: 0.26775 | M15: =L15*H15 -> 10.71 | N15: 21.42 | O15: =N15*H15 -> 856.8 | P15: =J15+N15 -> 97.92 | Q15: =P15*H15 -> 3916.8
A16: =IF(I16<>"",1+MAX($A$3:A15),"") -> 2 | B16: E1.0 | C16: E2.0 | E16: B - Bronze Dome Light Fixture - Size : 22" - Manf. : Progress Lighting - Model : P5342-2030K9 | F16: 12 | G16: 0 | H16: =F16*(1+G16) -> 12 | I16: EA | J16: 312.71 | K16: =J16*H16 -> 3752.52 | L16: 1.094485 | M16: =L16*H16 -> 13.13382 | N16: 87.5588 | O16: =N16*H16 -> 1050.7056 | P16: =J16+N16 -> 400.2688 | Q16: =P16*H16 -> 4803.2256
A17: =IF(I17<>"",1+MAX($A$3:A16),"") -> 3 | B17: E1.0 | C17: E2.0 | E17: C - Pendant Bar Light - Size : 6" - Manf. : Elegant Lighting - Model : LDPD2001 | F17: 39 | G17: 0 | H17: =F17*(1+G17) -> 39 | I17: EA | J17: 72.2 | K17: =J17*H17 -> 2815.8 | L17: 0.2527 | M17: =L17*H17 -> 9.8553 | N17: 20.216 | O17: =N17*H17 -> 788.424 | P17: =J17+N17 -> 92.416 | Q17: =P17*H17 -> 3604.224
A18: =IF(I18<>"",1+MAX($A$3:A17),"") -> 4 | B18: E1.0 | C18: E2.0 | E18: XM - Dual Head Exit Light - Manf. : Lithonia Lighting | F18: 6 | G18: 0 | H18: =F18*(1+G18) -> 6 | I18: EA | J18: 117 | K18: =J18*H18 -> 702 | L18: 0.4095 | M18: =L18*H18 -> 2.457 | N18: 32.76 | O18: =N18*H18 -> 196.56 | P18: =J18+N18 -> 149.76 | Q18: =P18*H18 -> 898.56
A19: =IF(I19<>"",1+MAX($A$3:A18),"") -> 5 | B19: E1.0 | C19: E2.0 | E19: XM - Four Head Exit Light - Manf : WareLight | F19: 3 | G19: 0 | H19: =F19*(1+G19) -> 3 | I19: EA | J19: 148 | K19: =J19*H19 -> 444 | L19: 0.518 | M19: =L19*H19 -> 1.554 | N19: 41.44 | O19: =N19*H19 -> 124.32 | P19: =J19+N19 -> 189.44 | Q19: =P19*H19 -> 568.32
A20: =IF(I20<>"",1+MAX($A$3:A19),"") -> 6 | B20: E1.0 | C20: E2.0 | E20: E - Exterior Wall Sconce Light Emergency Battery Backup (Weather Proof) - Size : 7" - Manf. : Rivoli - Model : PWS67469BK | F20: 2 | G20: 0 | H20: =F20*(1+G20) -> 2 | I20: EA | J20: 118 | K20: =J20*H20 -> 236 | L20: 0.413 | M20: =L20*H20 -> 0.826 | N20: 33.04 | O20: =N20*H20 -> 66.08 | P20: =J20+N20 -> 151.04 | Q20: =P20*H20 -> 302.08
A21: =IF(I21<>"",1+MAX($A$3:A20),"") -> 7 | B21: E1.0 | C21: E2.0 | E21: G - Exterior Wall Sconce Light (Weather Proof) - Size : 10" - Manf. : Bellevue - Model : SH50018ORB | F21: 10 | G21: 0 | H21: =F21*(1+G21) -> 10 | I21: EA | J21: 84 | K21: =J21*H21 -> 840 | L21: 0.294 | M21: =L21*H21 -> 2.94 | N21: 23.52 | O21: =N21*H21 -> 235.2 | P21: =J21+N21 -> 107.52 | Q21: =P21*H21 -> 1075.2
A22: =IF(I22<>"",1+MAX($A$3:A21),"") -> 8 | B22: E1.0 | C22: E2.0 | E22: EM - Dual Head Emergency Light Fixture w/ Battery Backup - Manf. : Lavex - Model : 695EABRC | F22: 7 | G22: 0 | H22: =F22*(1+G22) -> 7 | I22: EA | J22: 48 | K22: =J22*H22 -> 336 | L22: 0.168 | M22: =L22*H22 -> 1.176 | N22: 13.44 | O22: =N22*H22 -> 94.08 | P22: =J22+N22 -> 61.44 | Q22: =P22*H22 -> 430.08
A23: =IF(I23<>"",1+MAX($A$3:A22),"") -> 9 | B23: E1.0 | C23: E2.0 | E23: F2 - (1-6"x3') Troffer LED Light Note: No Details Found For Light "F2" , We Assumed it as troffer, Please Verify Manf: Lithonia Lighting | F23: 63 | G23: 0 | H23: =F23*(1+G23) -> 63 | I23: EA | J23: 92 | K23: =J23*H23 -> 5796 | L23: 0.322 | M23: =L23*H23 -> 20.286 | N23: 25.76 | O23: =N23*H23 -> 1622.88 | P23: =J23+N23 -> 117.76 | Q23: =P23*H23 -> 7418.88
A24: =IF(I24<>"",1+MAX($A$3:A23),"")
A25: =IF(I25<>"",1+MAX($A$3:A24),"") | E25: CANOPY PLAN
A26: =IF(I26<>"",1+MAX($A$3:A25),"")
A27: =IF(I27<>"",1+MAX($A$3:A26),"") -> 10 | B27: A4.0 | C27: E2.0 | E27: H - 22" x 22" Parabolic Lens Troffer Grid Mounts Energy Saving LED Light Manf: Lithonia Lighting | F27: 4 | G27: 0 | H27: =F27*(1+G27) -> 4 | I27: EA | J27: 190 | K27: =J27*H27 -> 760 | L27: 0.76 | M27: =L27*H27 -> 3.04 | N27: 60.8 | O27: =N27*H27 -> 243.2 | P27: =J27+N27 -> 250.8 | Q27: =P27*H27 -> 1003.2
A28: =IF(I28<>"",1+MAX($A$3:A27),"")
A29: =IF(I29<>"",1+MAX($A$3:A28),"") | E29: SITE PLAN
A30: =IF(I30<>"",1+MAX($A$3:A29),"")
A31: =IF(I31<>"",1+MAX($A$3:A30),"") -> 11 | B31: E1.0 | C31: E1.0 | E31: SL2 - Dual Head Pole Light - Fixtures Only Assumed 80 W Lights | F31: 1 | G31: 0 | H31: =F31*(1+G31) -> 1 | I31: EA | J31: 1180 | K31: =J31*H31 -> 1180 | L31: 2.1875 | M31: =L31*H31 -> 2.1875 | N31: 175 | O31: =N31*H31 -> 175 | P31: =J31+N31 -> 1355 | Q31: =P31*H31 -> 1355
A32: =IF(I32<>"",1+MAX($A$3:A31),"") -> 12 | B32: E1.0 | C32: E1.0 | E32: SL3 - Triple Head Pole Light - Fixtures Only Assumed 80 W Lights | F32: 1 | G32: 0 | H32: =F32*(1+G32) -> 1 | I32: EA | J32: 1648 | K32: =J32*H32 -> 1648 | L32: 2.725 | M32: =L32*H32 -> 2.725 | N32: 218 | O32: =N32*H32 -> 218 | P32: =J32+N32 -> 1866 | Q32: =P32*H32 -> 1866
A33: =IF(I33<>"",1+MAX($A$3:A32),"")
A34: =IF(I34<>"",1+MAX($A$3:A33),"") | E34: CONDUITS & WIRING
A35: =IF(I35<>"",1+MAX($A$3:A34),"")
A36: =IF(I36<>"",1+MAX($A$3:A35),"") | E36: FLOOR PLAN
A37: =IF(I37<>"",1+MAX($A$3:A36),"")
A38: =IF(I38<>"",1+MAX($A$3:A37),"") -> 13 | B38: E1.0 | C38: E1.0 | E38: 3/4" Lighting Conduit | F38: 1646.3 | G38: 0.1 | H38: =F38*(1+G38) -> 1810.93 | I38: LF | J38: 2.2 | K38: =J38*H38 -> 3984.046 | L38: 0.01045 | M38: =L38*H38 -> 18.924219 | N38: 0.836 | O38: =N38*H38 -> 1513.9375 | P38: =J38+N38 -> 3.036 | Q38: =P38*H38 -> 5497.9835
A39: =IF(I39<>"",1+MAX($A$3:A38),"") -> 14 | B39: E1.1 | C39: E1.1 | E39: 2#12 Lighting Wiring | F39: =1646.3*2 -> 3292.6 | G39: 0.1 | H39: =F39*(1+G39) -> 3621.86 | I39: LF | J39: 3.72 | K39: =J39*H39 -> 13473.319 | L39: 0.01767 | M39: =L39*H39 -> 63.998266 | N39: 1.4136 | O39: =N39*H39 -> 5119.8613 | P39: =J39+N39 -> 5.1336 | Q39: =P39*H39 -> 18593.18
A40: =IF(I40<>"",1+MAX($A$3:A39),"") -> 15 | B40: E1.1 | C40: E1.1 | E40: 1#12 Ground Wiring | F40: =1646.3*1 -> 1646.3 | G40: 0.1 | H40: =F40*(1+G40) -> 1810.93 | I40: LF | J40: 3.72 | K40: =J40*H40 -> 6736.6596 | L40: 0.01767 | M40: =L40*H40 -> 31.999133 | N40: 1.4136 | O40: =N40*H40 -> 2559.9306 | P40: =J40+N40 -> 5.1336 | Q40: =P40*H40 -> 9296.5902
A41: =IF(I41<>"",1+MAX($A$3:A40),"")
A42: =IF(I42<>"",1+MAX($A$3:A41),"") | E42: CANOPY PLAN
...

Sheet POWER & EQUIPMENT
A1: Estimate of Materials and Cost of Construction
D3: PROJECT: | E3: PROPOSED DISPENSARY.
D4: ADDRESS: | E4: SUNLAND PARK, NEW MEXICO.
D5: SCOPE: | E5: ELECTRICAL WORK
D6: DATE | E6: 45184
A8: SR # | B8: REF. SHEET | C8: DETAIL SHEET | D8: CSI SECT. | E8: DESCRIPTION | F8: QTY. | G8: WASTAGE | H8: QTY WITH WASTAGE | I8: UNIT OF MEASURMENT | J8: UNIT MATERIAL COST | K8: TOTAL MATERIAL COST | L8: UNIT LABOR HOURS | M8: TOTAL LABOR HOURS | N8: UNIT LABOR COST | O8: TOTAL LABOR COST | P8: UNIT COST | Q8: TOTAL ITEM COST | R8: TOTAL TRADE COST
A9: =IF(I9<>"",1+MAX($A$3:A7),"") | D9: DIV. 26 | E9: ELECTRICAL | R9: =SUM(Q11:Q97) -> 37784.489
A10: =IF(I10<>"",1+MAX($A$3:A9),"")
A11: =IF(I11<>"",1+MAX($A$3:A10),"") | E11: POWER FIXTURE
A12: =IF(I12<>"",1+MAX($A$3:A11),"")
A13: =IF(I13<>"",1+MAX($A$3:A12),"") | E13: FLOOR PLAN
A14: =IF(I14<>"",1+MAX($A$3:A13),"")
A15: =IF(I15<>"",1+MAX($A$3:A14),"") -> 1 | B15: E1.0 | C15: E3.0 | E15: Duplex Receptacle - 15A | F15: 41 | G15: 0 | H15: =F15*(1+G15) -> 41 | I15: EA | J15: 25 | K15: =J15*H15 -> 1025 | L15: 0.0875 | M15: =L15*H15 -> 3.5875 | N15: 7 | O15: =N15*H15 -> 287 | P15: =J15+N15 -> 32 | Q15: =P15*H15 -> 1312
A16: =IF(I16<>"",1+MAX($A$3:A15),"") -> 2 | B16: E1.0 | C16: E3.0 | E16: Duplex Receptacle - Ground Fault Circuit Interrupter (Weather Proof) | F16: 4 | G16: 0 | H16: =F16*(1+G16) -> 4 | I16: EA | J16: 28 | K16: =J16*H16 -> 112 | L16: 0.098 | M16: =L16*H16 -> 0.392 | N16: 7.84 | O16: =N16*H16 -> 31.36 | P16: =J16+N16 -> 35.84 | Q16: =P16*H16 -> 143.36
A17: =IF(I17<>"",1+MAX($A$3:A16),"") -> 3 | B17: E1.0 | C17: E3.0 | E17: Junction Box, Ampere: 20A, Voltage: 120V (Weather Proof) | F17: 1 | G17: 0 | H17: =F17*(1+G17) -> 1 | I17: EA | J17: 105 | K17: =J17*H17 -> 105 | L17: 0.3675 | M17: =L17*H17 -> 0.3675 | N17: 29.4 | O17: =N17*H17 -> 29.4 | P17: =J17+N17 -> 134.4 | Q17: =P17*H17 -> 134.4
A18: =IF(I18<>"",1+MAX($A$3:A17),"") -> 4 | B18: E1.0 | C18: E3.0 | E18: Television/ Data Outlet | F18: 4 | G18: 0 | H18: =F18*(1+G18) -> 4 | I18: EA | J18: 65 | K18: =J18*H18 -> 260 | L18: 0.2275 | M18: =L18*H18 -> 0.91 | N18: 18.2 | O18: =N18*H18 -> 72.8 | P18: =J18+N18 -> 83.2 | Q18: =P18*H18 -> 332.8
A19: =IF(I19<>"",1+MAX($A$3:A18),"") -> 5 | B19: E2.0 | C19: E2.0 | E19: Photocell/ Contactor For Exterior Light | F19: 1 | G19: 0 | H19: =F19*(1+G19) -> 1 | I19: EA | J19: 135 | K19: =J19*H19 -> 135 | L19: 0.4725 | M19: =L19*H19 -> 0.4725 | N19: 37.8 | O19: =N19*H19 -> 37.8 | P19: =J19+N19 -> 172.8 | Q19: =P19*H19 -> 172.8
A20: =IF(I20<>"",1+MAX($A$3:A19),"") -> 6 | B20: E2.0 | C20: E2.0 | E20: Time Clock For Exhaust Fan | F20: 1 | G20: 0 | H20: =F20*(1+G20) -> 1 | I20: EA | J20: 44 | K20: =J20*H20 -> 44 | L20: 0.154 | M20: =L20*H20 -> 0.154 | N20: 12.32 | O20: =N20*H20 -> 12.32 | P20: =J20+N20 -> 56.32 | Q20: =P20*H20 -> 56.32
A21: =IF(I21<>"",1+MAX($A$3:A20),"") -> 7 | B21: E2.0 | C21: E2.0 | E21: 120V Contactor For Exhaust Fan | F21: 1 | G21: 0 | H21: =F21*(1+G21) -> 1 | I21: EA | J21: 55 | K21: =J21*H21 -> 55 | L21: 0.1925 | M21: =L21*H21 -> 0.1925 | N21: 15.4 | O21: =N21*H21 -> 15.4 | P21: =J21+N21 -> 70.4 | Q21: =P21*H21 -> 70.4
A22: =IF(I22<>"",1+MAX($A$3:A21),"") -> 8 | B22: E1.0 | C22: E3.0 | E22: WH-1 - Electrical Water Heater, Voltage: 240V, Phase: 2P, Ampere: 60A | F22: 1 | G22: 0 | H22: =F22*(1+G22) -> 1 | I22: EA | J22: 610 | K22: =J22*H22 -> 610 | L22: 2.135 | M22: =L22*H22 -> 2.135 | N22: 170.8 | O22: =N22*H22 -> 170.8 | P22: =J22+N22 -> 780.8 | Q22: =P22*H22 -> 780.8
A23: =IF(I23<>"",1+MAX($A$3:A22),"")
A24: =IF(I24<>"",1+MAX($A$3:A23),"") | E24: CANOPY PLAN
A25: =IF(I25<>"",1+MAX($A$3:A24),"")
A26: =IF(I26<>"",1+MAX($A$3:A25),"") -> 9 | B26: E1.0 | C26: E2.0 | E26: Junction Box, Ampere: 20A, Voltage: 120V (Weather Proof) | F26: 1 | G26: 0 | H26: =F26*(1+G26) -> 1 | I26: EA | J26: 105 | K26: =J26*H26 -> 105 | L26: 0.3675 | M26: =L26*H26 -> 0.3675 | N26: 29.4 | O26: =N26*H26 -> 29.4 | P26: =J26+N26 -> 134.4 | Q26: =P26*H26 -> 134.4
A27: =IF(I27<>"",1+MAX($A$3:A26),"")
A28: =IF(I28<>"",1+MAX($A$3:A27),"") | E28: SITE PLAN
A29: =IF(I29<>"",1+MAX($A$3:A28),"")
A30: =IF(I30<>"",1+MAX($A$3:A29),"") -> 10 | B30: E1.0 | C30: E1.0 | E30: Duplex Receptacle - Ground Fault Circuit Interrupter (Weather Proof) | F30: 1 | G30: 0 | H30: =F30*(1+G30) -> 1 | I30: EA | J30: 28 | K30: =J30*H30 -> 28 | L30: 0.098 | M30: =L30*H30 -> 0.098 | N30: 7.84 | O30: =N30*H30 -> 7.84 | P30: =J30+N30 -> 35.84 | Q30: =P30*H30 -> 35.84
A31: =IF(I31<>"",1+MAX($A$3:A30),"") -> 11 | B31: E1.0 | C31: E1.0 | E31: Junction Box, Ampere: 20A, Voltage: 120v (Weather Proof) | F31: 1 | G31: 0 | H31: =F31*(1+G31) -> 1 | I31: EA | J31: 105 | K31: =J31*H31 -> 105 | L31: 0.3675 | M31: =L31*H31 -> 0.3675 | N31: 29.4 | O31: =N31*H31 -> 29.4 | P31: =J31+N31 -> 134.4 | Q31: =P31*H31 -> 134.4
A32: =IF(I32<>"",1+MAX($A$3:A31),"")
A33: =IF(I33<>"",1+MAX($A$3:A32),"") | E33: CONDUITS & WIRING
A34: =IF(I34<>"",1+MAX($A$3:A33),"")
A35: =IF(I35<>"",1+MAX($A$3:A34),"") | E35: FLOOR PLAN
A36: =IF(I36<>"",1+MAX($A$3:A35),"")
A37: =IF(I37<>"",1+MAX($A$3:A36),"") -> 12 | B37: E1.0 | C37: E3.0 | E37: 3/4" Power Conduit | F37: 314.77 | G37: 0.1 | H37: =F37*(1+G37) -> 346.247 | I37: LF | J37: 2.2 | K37: =J37*H37 -> 761.7434 | L37: 0.0077 | M37: =L37*H37 -> 2.6661019 | N37: 0.616 | O37: =N37*H37 -> 213.28815 | P37: =J37+N37 -> 2.816 | Q37: =P37*H37 -> 975.03155
A38: =IF(I38<>"",1+MAX($A$3:A37),"") -> 13 | B38: E1.0 | C38: E3.0 | E38: 2#12 Power Wiring | F38: =314.77*2 -> 629.54 | G38: 0.1 | H38: =F38*(1+G38) -> 692.494 | I38: LF | J38: 3.72 | K38: =J38*H38 -> 2576.0777 | L38: 0.01302 | M38: =L38*H38 -> 9.0162719 | N38: 1.0416 | O38: =N38*H38 -> 721.30175 | P38: =J38+N38 -> 4.7616 | Q38: =P38*H38 -> 3297.3794
A39: =IF(I39<>"",1+MAX($A$3:A38),"") -> 14 | B39: E1.0 | C39: E3.0 | E39: 1#12 Ground Wiring | F39: =314.77*1 -> 314.77 | G39: 0.1 | H39: =F39*(1+G39) -> 346.247 | I39: LF | J39: 3.72 | K39: =J39*H39 -> 1288.0388 | L39: 0.01302 | M39: =L39*H39 -> 4.5081359 | N39: 1.0416 | O39: =N39*H39 -> 360.65088 | P39: =J39+N39 -> 4.7616 | Q39: =P39*H39 -> 1648.6897
A40: =IF(I40<>"",1+MAX($A$3:A39),"")
A41: =IF(I41<>"",1+MAX($A$3:A40),"") | E41: SITE PLAN
A42: =IF(I42<>"",1+MAX($A$3:A41),"")
...

Sheet SWITCH GEAR & FEEDERS
A1: Estimate of Materials and Cost of Construction
D3: PROJECT: | E3: PROPOSED DISPENSARY.
D4: ADDRESS: | E4: SUNLAND PARK, NEW MEXICO.
D5: SCOPE: | E5: ELECTRICAL WORK
D6: DATE | E6: 45184
A8: SR # | B8: REF. SHEET | C8: DETAIL SHEET | D8: CSI SECT. | E8: DESCRIPTION | F8: QTY. | G8: WASTAGE | H8: QTY WITH WASTAGE | I8: UNIT OF MEASURMENT | J8: UNIT MATERIAL COST | K8: TOTAL MATERIAL COST | L8: UNIT LABOR HOURS | M8: TOTAL LABOR HOURS | N8: UNIT LABOR COST | O8: TOTAL LABOR COST | P8: UNIT COST | Q8: TOTAL ITEM COST | R8: TOTAL TRADE COST
A9: =IF(I9<>"",1+MAX($A$3:A7),"") | D9: DIV. 26 | E9: ELECTRICAL | R9: =SUM(Q11:Q75) -> 35990.046
A10: =IF(I10<>"",1+MAX($A$3:A9),"")
A11: =IF(I11<>"",1+MAX($A$3:A10),"") | E11: PANEL
A12: =IF(I12<>"",1+MAX($A$3:A11),"")
A13: =IF(I13<>"",1+MAX($A$3:A12),"") -> 1 | B13: E1.0 | C13: E1.0 | E13: Panelboard "B" - Voltage: 120/208V, Phase: 3PH, Ampere: 200A, Wire: 4 | F13: 1 | G13: 0 | H13: =F13*(1+G13) -> 1 | I13: EA | J13: 592 | K13: =J13*H13 -> 592 | L13: 2.072 | M13: =L13*H13 -> 2.072 | N13: 165.76 | O13: =N13*H13 -> 165.76 | P13: =J13+N13 -> 757.76 | Q13: =P13*H13 -> 757.76
A14: =IF(I14<>"",1+MAX($A$3:A13),"")
A15: =IF(I15<>"",1+MAX($A$3:A14),"") | E15: PANEL "B" CIRCUIT BREAKER
A16: =IF(I16<>"",1+MAX($A$3:A15),"")
A17: =IF(I17<>"",1+MAX($A$3:A16),"") -> 2 | B17: E1.0 | C17: E1.0 | E17: Circuit Breaker, Ampere: 20A, Pole: 1P | F17: 20 | G17: 0 | H17: =F17*(1+G17) -> 20 | I17: EA | J17: 78 | K17: =J17*H17 -> 1560 | L17: 0.273 | M17: =L17*H17 -> 5.46 | N17: 21.84 | O17: =N17*H17 -> 436.8 | P17: =J17+N17 -> 99.84 | Q17: =P17*H17 -> 1996.8
A18: =IF(I18<>"",1+MAX($A$3:A17),"")
A19: =IF(I19<>"",1+MAX($A$3:A18),"") | E19: TRANSFORMER
A20: =IF(I20<>"",1+MAX($A$3:A19),"")
A21: =IF(I21<>"",1+MAX($A$3:A20),"") -> 3 | B21: E1.0 | C21: E1.0 | E21: Pole Mounted Utility Transformer, Voltage: 120/208V, Phase: 3PH, Ampere: 600A, Wire: 4W - By Utility Company | F21: 1 | G21: 0 | H21: =F21*(1+G21) -> 1 | I21: EA | J21: 7500 | K21: =J21*H21 -> 7500 | L21: 26.25 | M21: =L21*H21 -> 26.25 | N21: 2100 | O21: =N21*H21 -> 2100 | P21: =J21+N21 -> 9600 | Q21: =P21*H21 -> 9600
A22: =IF(I22<>"",1+MAX($A$3:A21),"")
A23: =IF(I23<>"",1+MAX($A$3:A22),"") | E23: CIRCUIT BREAKER
A24: =IF(I24<>"",1+MAX($A$3:A23),"")
A25: =IF(I25<>"",1+MAX($A$3:A24),"") -> 4 | B25: E1.0 | C25: E1.0 | E25: Circuit Breaker , Voltage: 120V - For Circulating Pump | F25: 1 | G25: 0 | H25: =F25*(1+G25) -> 1 | I25: EA | J25: 108 | K25: =J25*H25 -> 108 | L25: 0.378 | M25: =L25*H25 -> 0.378 | N25: 30.24 | O25: =N25*H25 -> 30.24 | P25: =J25+N25 -> 138.24 | Q25: =P25*H25 -> 138.24
A26: =IF(I26<>"",1+MAX($A$3:A25),"")
A27: =IF(I27<>"",1+MAX($A$3:A26),"") | E27: DISCONNECT SWITCH
A28: =IF(I28<>"",1+MAX($A$3:A27),"")
A29: =IF(I29<>"",1+MAX($A$3:A28),"") -> 5 | B29: E1.0 | C29: E1.0 | E29: Disconnect Switch For Outdoor Unit (Weather Proof) | F29: 3 | G29: 0 | H29: =F29*(1+G29) -> 3 | I29: EA | J29: 120 | K29: =J29*H29 -> 360 | L29: 0.42 | M29: =L29*H29 -> 1.26 | N29: 33.6 | O29: =N29*H29 -> 100.8 | P29: =J29+N29 -> 153.6 | Q29: =P29*H29 -> 460.8
A30: =IF(I30<>"",1+MAX($A$3:A29),"") -> 6 | B30: E1.0 | C30: E1.0 | E30: Disconnect Switch For Indoor Unit (Weather Proof) | F30: 2 | G30: 0 | H30: =F30*(1+G30) -> 2 | I30: EA | J30: 120 | K30: =J30*H30 -> 240 | L30: 0.42 | M30: =L30*H30 -> 0.84 | N30: 33.6 | O30: =N30*H30 -> 67.2 | P30: =J30+N30 -> 153.6 | Q30: =P30*H30 -> 307.2
A31: =IF(I31<>"",1+MAX($A$3:A30),"") -> 7 | B31: E1.0 | C31: E1.0 | E31: Disconnect Switch For RTU (Weather Proof) | F31: 3 | G31: 0 | H31: =F31*(1+G31) -> 3 | I31: EA | J31: 120 | K31: =J31*H31 -> 360 | L31: 0.42 | M31: =L31*H31 -> 1.26 | N31: 33.6 | O31: =N31*H31 -> 100.8 | P31: =J31+N31 -> 153.6 | Q31: =P31*H31 -> 460.8
A32: =IF(I32<>"",1+MAX($A$3:A31),"") -> 8 | B32: E1.0 | C32: E1.0 | E32: Disconnect Switch For Electric Water Heater (Weather Proof) | F32: 1 | G32: 0 | H32: =F32*(1+G32) -> 1 | I32: EA | J32: 120 | K32: =J32*H32 -> 120 | L32: 0.42 | M32: =L32*H32 -> 0.42 | N32: 33.6 | O32: =N32*H32 -> 33.6 | P32: =J32+N32 -> 153.6 | Q32: =P32*H32 -> 153.6
A33: =IF(I33<>"",1+MAX($A$3:A32),"")
A34: =IF(I34<>"",1+MAX($A$3:A33),"") | E34: METERS
A35: =IF(I35<>"",1+MAX($A$3:A34),"") -> 9 | B35: E1.0 | C35: E1.0 | E35: Electrical Meter By Power Company | F35: 1 | G35: 0 | H35: =F35*(1+G35) -> 1 | I35: EA | J35: 700 | K35: =J35*H35 -> 700 | L35: 2.45 | M35: =L35*H35 -> 2.45 | N35: 196 | O35: =N35*H35 -> 196 | P35: =J35+N35 -> 896 | Q35: =P35*H35 -> 896
A36: =IF(I36<>"",1+MAX($A$3:A35),"")
A37: =IF(I37<>"",1+MAX($A$3:A36),"") | E37: ELECTRICAL EQUIPMENT
A38: =IF(I38<>"",1+MAX($A$3:A37),"") -> 10 | B38: E1.0 | C38: E1.0 | E38: Proposed Electrical Service Disconnect, Ampere: 600A, Voltage: 208/120V, Phase: 3PH, Wire: 4W, w/ 600Ampere Fuses | F38: 1 | G38: 0 | H38: =F38*(1+G38) -> 1 | I38: EA | J38: 3684 | K38: =J38*H38 -> 3684 | L38: 12.894 | M38: =L38*H38 -> 12.894 | N38: 1031.52 | O38: =N38*H38 -> 1031.52 | P38: =J38+N38 -> 4715.52 | Q38: =P38*H38 -> 4715.52
A39: =IF(I39<>"",1+MAX($A$3:A38),"") -> 11 | B39: E1.0 | C39: E1.0 | E39: CT Cabinet | F39: 1 | G39: 0 | H39: =F39*(1+G39) -> 1 | I39: EA | J39: 1497 | K39: =J39*H39 -> 1497 | L39: 2.65 | M39: =L39*H39 -> 2.65 | N39: 212 | O39: =N39*H39 -> 212 | P39: =J39+N39 -> 1709 | Q39: =P39*H39 -> 1709
A40: =IF(I40<>"",1+MAX($A$3:A39),"") -> 12 | B40: E1.0 | C40: E1.0 | E40: 10"x10"x60" Metering Gutter, Voltage: 120/208V, Phase: 3PH, Wire: 4W | F40: 1 | G40: 0 | H40: =F40*(1+G40) -> 1 | I40: EA | J40: 650 | K40: =J40*H40 -> 650 | L40: 2.275 | M40: =L40*H40 -> 2.275 | N40: 182 | O40: =N40*H40 -> 182 | P40: =J40+N40 -> 832 | Q40: =P40*H40 -> 832
A41: =IF(I41<>"",1+MAX($A$3:A40),"") -> 13 | B41: E1.0 | C41: E1.0 | E41: Wiring Gutter | F41: 1 | G41: 0 | H41: =F41*(1+G41) -> 1 | I41: EA | J41: 375 | K41: =J41*H41 -> 375 | L41: 1.3125 | M41: =L41*H41 -> 1.3125 | N41: 105 | O41: =N41*H41 -> 105 | P41: =J41+N41 -> 480 | Q41: =P41*H41 -> 480
A42: =IF(I42<>"",1+MAX($A$3:A41),"") -> 14 | B42: E1.0 | C42: E1.0 | E42: Weather Head Per Utility Company Standards (10'H) | F42: 1 | G42: 0 | H42: =F42*(1+G42) -> 1 | I42: EA | J42: 220 | K42: =J42*H42 -> 220 | L42: 0.77 | M42: =L42*H42 -> 0.77 | N42: 61.6 | O42: =N42*H42 -> 61.6 | P42: =J42+N42 -> 281.6 | Q42: =P42*H42 -> 281.6
...
